Workbook

Sheet Р
C1: РЕГИСТРАЦИЯ | F1: Кубок Монарх - 2024 (25.05.2024) | J1: C:\Users\user\Desktop\Кубок Монарх - 2024\3\
I2: ПР 3.xlsm | J2: ПР 3
C3: SRDC Ювеналы Соло Am. Sm.
C4: 0 | D4: 0 | F4: 0 | G4: 1
A5: № | B5: ПРОГРАММА | C5: КЛАСС | D5: ВОЗРАСТ | E5: ПАРТНЁР | F5: ПАРТНЁРША | G5: ГОРОД (СТРАНА) | H5: КЛУБ (РЕГИОНАЛЬНАЯ ОРГАНИЗАЦИЯ) | I5: РУКОВОДИТЕЛЬ | J5: ТРЕНЕРЫ | K5: Д.Р. ПАРТНЁРА | L5: Д.Р. ПАРТНЁРШИ | M5: IDD ПАРТНЕРА | N5: IDD ПАРТНЕРШИ | O5: КЛАСС ПАРТНЕРА ПО ЕКТ | P5: КЛАСС ПАРТНЕРШИ ПО ЕКТ
A6: 7 | B6: Ст | C6: 3 | D6: 9 | E6: Альбекова Аделина | G6: Пенза | K6: 41903 | O6: D

Sheet финал
B1: ФИНАЛЬНАЯ ТАБЛИЦА
C2: название турнира: | E2: Кубок Монарх - 2024 | AI2: 0
C3: статус турнира: | E3: SRDC American Smooth | AK3: 1-2 места | AQ3: 1-3 места | AV3: 1-4 места | BA3: 1-5 места | BF3: 1-6 места | BK3: 1-7 места | BS3: 1-2 | BT3: 1-3 | BU3: 1-4 | BV3: 1-5 | BW3: 1-6 | BX3: 1-7
C4: дата проведения: | E4: 25.05.2024 | AK4: 1-е по 1-м | AL4: 1-е по 1-2м (кол-во) | AM4: 1-е по 1-2м (сумма) | AN4: 1-е по 1-2м (равноК) | AO4: 1-е по 1-2м (равноС) | AP4: 1-е по 1-2м (равноК-С1) | AQ4: 1-е по 1-3м (кол-во) | AR4: 1-е по 1-3м (сумма) | AS4: 1-е по 1-3м (равноК) | AT4: 1-е по 1-3м (равноС) | AU4: 1-е по 1-3м (равноК-С1) | AV4: 1-е по 1-4м (кол-во) | AW4: 1-е по 1-4м (сумма) | AX4: 1-е по 1-4м (равноК) | AY4: 1-е по 1-4м (равноС) | AZ4: 1-е по 1-4м (равноК-С) | BA4: 1-е по 1-5м (кол-во) | BB4: 1-е по 1-5м (сумма) | BC4: 1-е по 1-5м (равноК) | BD4: 1-е по 1-5м (равноС) | BE4: 1-е по 1-5м (равноК-С) | BF4: 1-е по 1-6м (кол-во) | BG4: 1-е по 1-6м (сумма) | BH4: 1-е по 1-6м (равноК) | BI4: 1-е по 1-6м (равноС) | BJ4: 1-е по 1-6м (равноК-С) | BK4: 1-е по 1-7м (кол-во) | BL4: 1-е по 1-7м (сумма) | BM4: 1-е по 1-7м (равноК) | BN4: 1-е по 1-7м (равноС) | BO4: 1-е по 1-7м (равноК-С) | BP4: 1-е по 1-7м (кол-во) 2 | BQ4: 1-е по 1-7м (равноК) 2 | BR4: 1-е по 1-7м (равноС) 2 | BS4: ПРОВЕРКА 1 МЕСТО | BT4: ПРОВЕРКА 1 МЕСТО | BU4: ПРОВЕРКА 1 МЕСТО | BV4: ПРОВЕРКА 1 МЕСТО | BW4: ПРОВЕРКА 1 МЕСТО | BX4: ПРОВЕРКА 1 МЕСТО | BY4: ПРОВЕРКА 1 МЕСТО | BZ4: 1 МЕСТО | CA4: ПРОВЕРКА ДЕЛЕНИЯ | CB4: ТАБЛИЦА ДЕЛЕНИЙ | CC4: РЕЗ-ТАТ ДЕЛЕНИЙ | CD4: МЕСТО
C5: место проведения: | E5: Арена Мытищи
C6: категория: | E6: SRDC Ювеналы Соло Am. Sm.
C7: 2 | Z7: 1
B8: танец | C8: номер | D8: судейская бригада | S8: количество мест | Z8: место | AA8: сумма мест
D9: 1 | E9: 2 | F9: 3 | S9: 1 | T9: 1-2 | U9: 1-3 | V9: 1-4 | W9: 1-5 | X9: 1-6 | Y9: 1-7 | AA9: 1 | AB9: 1-2 | AC9: 1-3 | AD9: 1-4 | AE9: 1-5 | AF9: 1-6 | AG9: 1-7
B10: W | C10: 7 | D10: 1 | E10: 1 | F10: 1 | S10: 0 | T10: 0 | U10: 0 | V10: 0 | W10: 0 | X10: 0 | Y10: 0 | Z10: 1 | AA10: 0 | AB10: 0 | AC10: 0 | AD10: 0 | AE10: 0 | AF10: 0 | AG10: 0 | AH10: 111 | AI10: 0 | AK10: 0 | AL10: 0 | AM10: 0 | AN10: 0 | AO10: 999 | AP10: 1 | AQ10: 0 | AR10: 0 | AS10: 0 | AT10: 999 | AU10: 1 | AV10: 0 | AW10: 0 | AX10: 0 | AY10: 999 | AZ10: 1 | BA10: 0 | BB10: 0 | BC10: 0 | BD10: 999 | BE10: 1 | BF10: 0 | BG10: 0 | BH10: 0 | BI10: 999 | BJ10: 1 | BK10: 0 | BL10: 0 | BM10: 0 | BN10: 999 | BO10: 1 | BP10: 0 | BQ10: 0 | BR10: 999 | BS10: 0 | BT10: 0 | BU10: 0 | BV10: 0 | BW10: 0 | BX10: 0 | BY10: 0 | BZ10: 0 | CA10: 0 | CB10: 2 | CC10: 1.5 | CD10: 0
C11: 999 | S11: 0 | T11: 0 | U11: 0 | V11: 0 | W11: 0 | X11: 0 | Y11: 0 | AA11: 0 | AB11: 0 | AC11: 0 | AD11: 0 | AE11: 0 | AF11: 0 | AG11: 0 | AI11: 0 | AK11: 0 | AL11: 0 | AM11: 0 | AN11: 0 | AO11: 999 | AP11: 1 | AQ11: 0 | AR11: 0 | AS11: 0 | AT11: 999 | AU11: 1 | AV11: 0 | AW11: 0 | AX11: 0 | AY11: 999 | AZ11: 1 | BA11: 0 | BB11: 0 | BC11: 0 | BD11: 999 | BE11: 1 | BF11: 0 | BG11: 0 | BH11: 0 | BI11: 999 | BJ11: 1 | BK11: 0 | BL11: 0 | BM11: 0 | BN11: 999 | BO11: 1 | BP11: 0 | BQ11: 0 | BR11: 999 | BS11: 0 | BT11: 0 | BU11: 0 | BV11: 0 | BW11: 0 | BX11: 0 | BY11: 0 | BZ11: 0 | CA11: 0 | CB11: 3 | CC11: 2 | CD11: 0
S12: 0 | T12: 0 | U12: 0 | V12: 0 | W12: 0 | X12: 0 | Y12: 0 | AA12: 0 | AB12: 0 | AC12: 0 | AD12: 0 | AE12: 0 | AF12: 0 | AG12: 0 | AI12: 0 | AK12: 0 | AL12: 0 | AM12: 0 | AN12: 0 | AO12: 999 | AP12: 1 | AQ12: 0 | AR12: 0 | AS12: 0 | AT12: 999 | AU12: 1 | AV12: 0 | AW12: 0 | AX12: 0 | AY12: 999 | AZ12: 1 | BA12: 0 | BB12: 0 | BC12: 0 | BD12: 999 | BE12: 1 | BF12: 0 | BG12: 0 | BH12: 0 | BI12: 999 | BJ12: 1 | BK12: 0 | BL12: 0 | BM12: 0 | BN12: 999 | BO12: 1 | BP12: 0 | BQ12: 0 | BR12: 999 | BS12: 0 | BT12: 0 | BU12: 0 | BV12: 0 | BW12: 0 | BX12: 0 | BY12: 0 | BZ12: 0 | CA12: 0 | CB12: 4 | CC12: 2.5 | CD12: 0
S13: 0 | T13: 0 | U13: 0 | V13: 0 | W13: 0 | X13: 0 | Y13: 0 | AA13: 0 | AB13: 0 | AC13: 0 | AD13: 0 | AE13: 0 | AF13: 0 | AG13: 0 | AI13: 0 | AK13: 0 | AL13: 0 | AM13: 0 | AN13: 0 | AO13: 999 | AP13: 1 | AQ13: 0 | AR13: 0 | AS13: 0 | AT13: 999 | AU13: 1 | AV13: 0 | AW13: 0 | AX13: 0 | AY13: 999 | AZ13: 1 | BA13: 0 | BB13: 0 | BC13: 0 | BD13: 999 | BE13: 1 | BF13: 0 | BG13: 0 | BH13: 0 | BI13: 999 | BJ13: 1 | BK13: 0 | BL13: 0 | BM13: 0 | BN13: 999 | BO13: 1 | BP13: 0 | BQ13: 0 | BR13: 999 | BS13: 0 | BT13: 0 | BU13: 0 | BV13: 0 | BW13: 0 | BX13: 0 | BY13: 0 | BZ13: 0 | CA13: 0 | CB13: 5 | CC13: 3 | CD13: 0
S14: 0 | T14: 0 | U14: 0 | V14: 0 | W14: 0 | X14: 0 | Y14: 0 | AA14: 0 | AB14: 0 | AC14: 0 | AD14: 0 | AE14: 0 | AF14: 0 | AG14: 0 | AI14: 0 | AK14: 0 | AL14: 0 | AM14: 0 | AN14: 0 | AO14: 999 | AP14: 1 | AQ14: 0 | AR14: 0 | AS14: 0 | AT14: 999 | AU14: 1 | AV14: 0 | AW14: 0 | AX14: 0 | AY14: 999 | AZ14: 1 | BA14: 0 | BB14: 0 | BC14: 0 | BD14: 999 | BE14: 1 | BF14: 0 | BG14: 0 | BH14: 0 | BI14: 999 | BJ14: 1 | BK14: 0 | BL14: 0 | BM14: 0 | BN14: 999 | BO14: 1 | BP14: 0 | BQ14: 0 | BR14: 999 | BS14: 0 | BT14: 0 | BU14: 0 | BV14: 0 | BW14: 0 | BX14: 0 | BY14: 0 | BZ14: 0 | CA14: 0 | CB14: 6 | CC14: 3.5 | CD14: 0
S15: 0 | T15: 0 | U15: 0 | V15: 0 | W15: 0 | X15: 0 | Y15: 0 | AA15: 0 | AB15: 0 | AC15: 0 | AD15: 0 | AE15: 0 | AF15: 0 | AG15: 0 | AI15: 0 | AK15: 0 | AL15: 0 | AM15: 0 | AN15: 0 | AO15: 999 | AP15: 1 | AQ15: 0 | AR15: 0 | AS15: 0 | AT15: 999 | AU15: 1 | AV15: 0 | AW15: 0 | AX15: 0 | AY15: 999 | AZ15: 1 | BA15: 0 | BB15: 0 | BC15: 0 | BD15: 999 | BE15: 1 | BF15: 0 | BG15: 0 | BH15: 0 | BI15: 999 | BJ15: 1 | BK15: 0 | BL15: 0 | BM15: 0 | BN15: 999 | BO15: 1 | BP15: 0 | BQ15: 0 | BR15: 999 | BS15: 0 | BT15: 0 | BU15: 0 | BV15: 0 | BW15: 0 | BX15: 0 | BY15: 0 | BZ15: 0 | CA15: 0 | CB15: 7 | CC15: 4 | CD15: 0
S16: 0 | T16: 0 | U16: 0 | V16: 0 | W16: 0 | X16: 0 | Y16: 0 | AA16: 0 | AB16: 0 | AC16: 0 | AD16: 0 | AE16: 0 | AF16: 0 | AG16: 0 | AI16: 0 | AK16: 0 | AL16: 0 | AM16: 0 | AN16: 0 | AO16: 999 | AP16: 1 | AQ16: 0 | AR16: 0 | AS16: 0 | AT16: 999 | AU16: 1 | AV16: 0 | AW16: 0 | AX16: 0 | AY16: 999 | AZ16: 1 | BA16: 0 | BB16: 0 | BC16: 0 | BD16: 999 | BE16: 1 | BF16: 0 | BG16: 0 | BH16: 0 | BI16: 999 | BJ16: 1 | BK16: 0 | BL16: 0 | BM16: 0 | BN16: 999 | BO16: 1 | BP16: 0 | BQ16: 0 | BR16: 999 | BS16: 0 | BT16: 0 | BU16: 0 | BV16: 0 | BW16: 0 | BX16: 0 | BY16: 0 | BZ16: 0 | CA16: 0 | CB16: 8 | CC16: 4.5 | CD16: 0
S17: 0 | T17: 0 | U17: 0 | V17: 0 | W17: 0 | X17: 0 | Y17: 0 | AA17: 0 | AB17: 0 | AC17: 0 | AD17: 0 | AE17: 0 | AF17: 0 | AG17: 0 | AI17: 0 | AK17: 0 | AL17: 0 | AM17: 0 | AN17: 0 | AO17: 999 | AP17: 1 | AQ17: 0 | AR17: 0 | AS17: 0 | AT17: 999 | AU17: 1 | AV17: 0 | AW17: 0 | AX17: 0 | AY17: 999 | AZ17: 1 | BA17: 0 | BB17: 0 | BC17: 0 | BD17: 999 | BE17: 1 | BF17: 0 | BG17: 0 | BH17: 0 | BI17: 999 | BJ17: 1 | BK17: 0 | BL17: 0 | BM17: 0 | BN17: 999 | BO17: 1 | BP17: 0 | BQ17: 0 | BR17: 999 | BS17: 0 | BT17: 0 | BU17: 0 | BV17: 0 | BW17: 0 | BX17: 0 | BY17: 0 | BZ17: 0 | CA17: 0 | CB17: КД | CC17: 0 | CD17: 0
AK18: к | AL18: к | AM18: к | AN18: р | AO18: р | AQ18: к | AR18: к | AS18: р | AT18: р | AU18: и | AV18: к | AW18: к | AX18: р | AY18: р | AZ18: и | BA18: к | BB18: к | BC18: р | BD18: р | BE18: и | BF18: к | BG18: к | BH18: р | BI18: р | BJ18: и | BK18: к | BL18: к | BM18: р | BN18: р
Z21: 1
B22: танец | C22: номер | D22: судейская бригада | S22: количество мест | Z22: место | AA22: сумма мест | AH22: судейская бригада
D23: 1 | E23: 2 | F23: 3 | G23: 0 | H23: 0 | I23: 0 | J23: 0 | K23: 0 | L23: 0 | M23: 0 | N23: 0 | O23: 0 | P23: 0 | Q23: 0 | R23: 0 | S23: 1 | T23: 1-2 | U23: 1-3 | V23: 1-4 | W23: 1-5 | X23: 1-6 | Y23: 1-7 | AA23: 1 | AB23: 1-2 | AC23: 1-3 | AD23: 1-4 | AE23: 1-5 | AF23: 1-6 | AG23: 1-7 | AH23: 123000000
B24: T | C24: 7 | D24: 1 | E24: 1 | F24: 1 | S24: 0 | T24: 0 | U24: 0 | V24: 0 | W24: 0 | X24: 0 | Y24: 0 | Z24: 1 | AA24: 0 | AB24: 0 | AC24: 0 | AD24: 0 | AE24: 0 | AF24: 0 | AG24: 0 | AH24: 111 | AI24: 0 | AK24: 0 | AL24: 0 | AM24: 0 | AN24: 0 | AO24: 999 | AP24: 1 | AQ24: 0 | AR24: 0 | AS24: 0 | AT24: 999 | AU24: 1 | AV24: 0 | AW24: 0 | AX24: 0 | AY24: 999 | AZ24: 1 | BA24: 0 | BB24: 0 | BC24: 0 | BD24: 999 | BE24: 1 | BF24: 0 | BG24: 0 | BH24: 0 | BI24: 999 | BJ24: 1 | BK24: 0 | BL24: 0 | BM24: 0 | BN24: 999 | BO24: 1 | BP24: 0 | BQ24: 0 | BR24: 999 | BS24: 0 | BT24: 0 | BU24: 0 | BV24: 0 | BW24: 0 | BX24: 0 | BY24: 0 | BZ24: 0 | CA24: 0 | CB24: 2 | CC24: 1.5 | CD24: 0
C25: 999 | S25: 0 | T25: 0 | U25: 0 | V25: 0 | W25: 0 | X25: 0 | Y25: 0 | AA25: 0 | AB25: 0 | AC25: 0 | AD25: 0 | AE25: 0 | AF25: 0 | AG25: 0 | AI25: 0 | AK25: 0 | AL25: 0 | AM25: 0 | AN25: 0 | AO25: 999 | AP25: 1 | AQ25: 0 | AR25: 0 | AS25: 0 | AT25: 999 | AU25: 1 | AV25: 0 | AW25: 0 | AX25: 0 | AY25: 999 | AZ25: 1 | BA25: 0 | BB25: 0 | BC25: 0 | BD25: 999 | BE25: 1 | BF25: 0 | BG25: 0 | BH25: 0 | BI25: 999 | BJ25: 1 | BK25: 0 | BL25: 0 | BM25: 0 | BN25: 999 | BO25: 1 | BP25: 0 | BQ25: 0 | BR25: 999 | BS25: 0 | BT25: 0 | BU25: 0 | BV25: 0 | BW25: 0 | BX25: 0 | BY25: 0 | BZ25: 0 | CA25: 0 | CB25: 3 | CC25: 2 | CD25: 0
C26: 0 | S26: 0 | T26: 0 | U26: 0 | V26: 0 | W26: 0 | X26: 0 | Y26: 0 | AA26: 0 | AB26: 0 | AC26: 0 | AD26: 0 | AE26: 0 | AF26: 0 | AG26: 0 | AI26: 0 | AK26: 0 | AL26: 0 | AM26: 0 | AN26: 0 | AO26: 999 | AP26: 1 | AQ26: 0 | AR26: 0 | AS26: 0 | AT26: 999 | AU26: 1 | AV26: 0 | AW26: 0 | AX26: 0 | AY26: 999 | AZ26: 1 | BA26: 0 | BB26: 0 | BC26: 0 | BD26: 999 | BE26: 1 | BF26: 0 | BG26: 0 | BH26: 0 | BI26: 999 | BJ26: 1 | BK26: 0 | BL26: 0 | BM26: 0 | BN26: 999 | BO26: 1 | BP26: 0 | BQ26: 0 | BR26: 999 | BS26: 0 | BT26: 0 | BU26: 0 | BV26: 0 | BW26: 0 | BX26: 0 | BY26: 0 | BZ26: 0 | CA26: 0 | CB26: 4 | CC26: 2.5 | CD26: 0
C27: 0 | S27: 0 | T27: 0 | U27: 0 | V27: 0 | W27: 0 | X27: 0 | Y27: 0 | AA27: 0 | AB27: 0 | AC27: 0 | AD27: 0 | AE27: 0 | AF27: 0 | AG27: 0 | AI27: 0 | AK27: 0 | AL27: 0 | AM27: 0 | AN27: 0 | AO27: 999 | AP27: 1 | AQ27: 0 | AR27: 0 | AS27: 0 | AT27: 999 | AU27: 1 | AV27: 0 | AW27: 0 | AX27: 0 | AY27: 999 | AZ27: 1 | BA27: 0 | BB27: 0 | BC27: 0 | BD27: 999 | BE27: 1 | BF27: 0 | BG27: 0 | BH27: 0 | BI27: 999 | BJ27: 1 | BK27: 0 | BL27: 0 | BM27: 0 | BN27: 999 | BO27: 1 | BP27: 0 | BQ27: 0 | BR27: 999 | BS27: 0 | BT27: 0 | BU27: 0 | BV27: 0 | BW27: 0 | BX27: 0 | BY27: 0 | BZ27: 0 | CA27: 0 | CB27: 5 | CC27: 3 | CD27: 0
C28: 0 | S28: 0 | T28: 0 | U28: 0 | V28: 0 | W28: 0 | X28: 0 | Y28: 0 | AA28: 0 | AB28: 0 | AC28: 0 | AD28: 0 | AE28: 0 | AF28: 0 | AG28: 0 | AI28: 0 | AK28: 0 | AL28: 0 | AM28: 0 | AN28: 0 | AO28: 999 | AP28: 1 | AQ28: 0 | AR28: 0 | AS28: 0 | AT28: 999 | AU28: 1 | AV28: 0 | AW28: 0 | AX28: 0 | AY28: 999 | AZ28: 1 | BA28: 0 | BB28: 0 | BC28: 0 | BD28: 999 | BE28: 1 | BF28: 0 | BG28: 0 | BH28: 0 | BI28: 999 | BJ28: 1 | BK28: 0 | BL28: 0 | BM28: 0 | BN28: 999 | BO28: 1 | BP28: 0 | BQ28: 0 | BR28: 999 | BS28: 0 | BT28: 0 | BU28: 0 | BV28: 0 | BW28: 0 | BX28: 0 | BY28: 0 | BZ28: 0 | CA28: 0 | CB28: 6 | CC28: 3.5 | CD28: 0
C29: 0 | S29: 0 | T29: 0 | U29: 0 | V29: 0 | W29: 0 | X29: 0 | Y29: 0 | AA29: 0 | AB29: 0 | AC29: 0 | AD29: 0 | AE29: 0 | AF29: 0 | AG29: 0 | AI29: 0 | AK29: 0 | AL29: 0 | AM29: 0 | AN29: 0 | AO29: 999 | AP29: 1 | AQ29: 0 | AR29: 0 | AS29: 0 | AT29: 999 | AU29: 1 | AV29: 0 | AW29: 0 | AX29: 0 | AY29: 999 | AZ29: 1 | BA29: 0 | BB29: 0 | BC29: 0 | BD29: 999 | BE29: 1 | BF29: 0 | BG29: 0 | BH29: 0 | BI29: 999 | BJ29: 1 | BK29: 0 | BL29: 0 | BM29: 0 | BN29: 999 | BO29: 1 | BP29: 0 | BQ29: 0 | BR29: 999 | BS29: 0 | BT29: 0 | BU29: 0 | BV29: 0 | BW29: 0 | BX29: 0 | BY29: 0 | BZ29: 0 | CA29: 0 | CB29: 7 | CC29: 4 | CD29: 0
C30: 0 | S30: 0 | T30: 0 | U30: 0 | V30: 0 | W30: 0 | X30: 0 | Y30: 0 | AA30: 0 | AB30: 0 | AC30: 0 | AD30: 0 | AE30: 0 | AF30: 0 | AG30: 0 | AI30: 0 | AK30: 0 | AL30: 0 | AM30: 0 | AN30: 0 | AO30: 999 | AP30: 1 | AQ30: 0 | AR30: 0 | AS30: 0 | AT30: 999 | AU30: 1 | AV30: 0 | AW30: 0 | AX30: 0 | AY30: 999 | AZ30: 1 | BA30: 0 | BB30: 0 | BC30: 0 | BD30: 999 | BE30: 1 | BF30: 0 | BG30: 0 | BH30: 0 | BI30: 999 | BJ30: 1 | BK30: 0 | BL30: 0 | BM30: 0 | BN30: 999 | BO30: 1 | BP30: 0 | BQ30: 0 | BR30: 999 | BS30: 0 | BT30: 0 | BU30: 0 | BV30: 0 | BW30: 0 | BX30: 0 | BY30: 0 | BZ30: 0 | CA30: 0 | CB30: 8 | CC30: 4.5 | CD30: 0
C31: 0 | S31: 0 | T31: 0 | U31: 0 | V31: 0 | W31: 0 | X31: 0 | Y31: 0 | AA31: 0 | AB31: 0 | AC31: 0 | AD31: 0 | AE31: 0 | AF31: 0 | AG31: 0 | AI31: 0 | AK31: 0 | AL31: 0 | AM31: 0 | AN31: 0 | AO31: 999 | AP31: 1 | AQ31: 0 | AR31: 0 | AS31: 0 | AT31: 999 | AU31: 1 | AV31: 0 | AW31: 0 | AX31: 0 | AY31: 999 | AZ31: 1 | BA31: 0 | BB31: 0 | BC31: 0 | BD31: 999 | BE31: 1 | BF31: 0 | BG31: 0 | BH31: 0 | BI31: 999 | BJ31: 1 | BK31: 0 | BL31: 0 | BM31: 0 | BN31: 999 | BO31: 1 | BP31: 0 | BQ31: 0 | BR31: 999 | BS31: 0 | BT31: 0 | BU31: 0 | BV31: 0 | BW31: 0 | BX31: 0 | BY31: 0 | BZ31: 0 | CA31: 0 | CB31: КД | CC31: 0 | CD31: 0
Z35: 1
B36: танец | C36: номер | D36: судейская бригада | S36: количество мест | Z36: место | AA36: сумма мест | AH36: судейская бригада
D37: 1 | E37: 2 | F37: 3 | G37: 0 | H37: 0 | I37: 0 | J37: 0 | K37: 0 | L37: 0 | M37: 0 | N37: 0 | O37: 0 | P37: 0 | Q37: 0 | R37: 0 | S37: 1 | T37: 1-2 | U37: 1-3 | V37: 1-4 | W37: 1-5 | X37: 1-6 | Y37: 1-7 | AA37: 1 | AB37: 1-2 | AC37: 1-3 | AD37: 1-4 | AE37: 1-5 | AF37: 1-6 | AG37: 1-7 | AH37: 123000000
B38: F | C38: 7 | D38: 1 | E38: 1 | F38: 1 | S38: 0 | T38: 0 | U38: 0 | V38: 0 | W38: 0 | X38: 0 | Y38: 0 | Z38: 1 | AA38: 0 | AB38: 0 | AC38: 0 | AD38: 0 | AE38: 0 | AF38: 0 | AG38: 0 | AH38: 111 | AI38: 0 | AK38: 0 | AL38: 0 | AM38: 0 | AN38: 0 | AO38: 999 | AP38: 1 | AQ38: 0 | AR38: 0 | AS38: 0 | AT38: 999 | AU38: 1 | AV38: 0 | AW38: 0 | AX38: 0 | AY38: 999 | AZ38: 1 | BA38: 0 | BB38: 0 | BC38: 0 | BD38: 999 | BE38: 1 | BF38: 0 | BG38: 0 | BH38: 0 | BI38: 999 | BJ38: 1 | BK38: 0 | BL38: 0 | BM38: 0 | BN38: 999 | BO38: 1 | BP38: 0 | BQ38: 0 | BR38: 999 | BS38: 0 | BT38: 0 | BU38: 0 | BV38: 0 | BW38: 0 | BX38: 0 | BY38: 0 | BZ38: 0 | CA38: 0 | CB38: 2 | CC38: 1.5 | CD38: 0
C39: 999 | S39: 0 | T39: 0 | U39: 0 | V39: 0 | W39: 0 | X39: 0 | Y39: 0 | AA39: 0 | AB39: 0 | AC39: 0 | AD39: 0 | AE39: 0 | AF39: 0 | AG39: 0 | AI39: 0 | AK39: 0 | AL39: 0 | AM39: 0 | AN39: 0 | AO39: 999 | AP39: 1 | AQ39: 0 | AR39: 0 | AS39: 0 | AT39: 999 | AU39: 1 | AV39: 0 | AW39: 0 | AX39: 0 | AY39: 999 | AZ39: 1 | BA39: 0 | BB39: 0 | BC39: 0 | BD39: 999 | BE39: 1 | BF39: 0 | BG39: 0 | BH39: 0 | BI39: 999 | BJ39: 1 | BK39: 0 | BL39: 0 | BM39: 0 | BN39: 999 | BO39: 1 | BP39: 0 | BQ39: 0 | BR39: 999 | BS39: 0 | BT39: 0 | BU39: 0 | BV39: 0 | BW39: 0 | BX39: 0 | BY39: 0 | BZ39: 0 | CA39: 0 | CB39: 3 | CC39: 2 | CD39: 0
C40: 0 | S40: 0 | T40: 0 | U40: 0 | V40: 0 | W40: 0 | X40: 0 | Y40: 0 | AA40: 0 | AB40: 0 | AC40: 0 | AD40: 0 | AE40: 0 | AF40: 0 | AG40: 0 | AI40: 0 | AK40: 0 | AL40: 0 | AM40: 0 | AN40: 0 | AO40: 999 | AP40: 1 | AQ40: 0 | AR40: 0 | AS40: 0 | AT40: 999 | AU40: 1 | AV40: 0 | AW40: 0 | AX40: 0 | AY40: 999 | AZ40: 1 | BA40: 0 | BB40: 0 | BC40: 0 | BD40: 999 | BE40: 1 | BF40: 0 | BG40: 0 | BH40: 0 | BI40: 999 | BJ40: 1 | BK40: 0 | BL40: 0 | BM40: 0 | BN40: 999 | BO40: 1 | BP40: 0 | BQ40: 0 | BR40: 999 | BS40: 0 | BT40: 0 | BU40: 0 | BV40: 0 | BW40: 0 | BX40: 0 | BY40: 0 | BZ40: 0 | CA40: 0 | CB40: 4 | CC40: 2.5 | CD40: 0
C41: 0 | S41: 0 | T41: 0 | U41: 0 | V41: 0 | W41: 0 | X41: 0 | Y41: 0 | AA41: 0 | AB41: 0 | AC41: 0 | AD41: 0 | AE41: 0 | AF41: 0 | AG41: 0 | AI41: 0 | AK41: 0 | AL41: 0 | AM41: 0 | AN41: 0 | AO41: 999 | AP41: 1 | AQ41: 0 | AR41: 0 | AS41: 0 | AT41: 999 | AU41: 1 | AV41: 0 | AW41: 0 | AX41: 0 | AY41: 999 | AZ41: 1 | BA41: 0 | BB41: 0 | BC41: 0 | BD41: 999 | BE41: 1 | BF41: 0 | BG41: 0 | BH41: 0 | BI41: 999 | BJ41: 1 | BK41: 0 | BL41: 0 | BM41: 0 | BN41: 999 | BO41: 1 | BP41: 0 | BQ41: 0 | BR41: 999 | BS41: 0 | BT41: 0 | BU41: 0 | BV41: 0 | BW41: 0 | BX41: 0 | BY41: 0 | BZ41: 0 | CA41: 0 | CB41: 5 | CC41: 3 | CD41: 0
C42: 0 | S42: 0 | T42: 0 | U42: 0 | V42: 0 | W42: 0 | X42: 0 | Y42: 0 | AA42: 0 | AB42: 0 | AC42: 0 | AD42: 0 | AE42: 0 | AF42: 0 | AG42: 0 | AI42: 0 | AK42: 0 | AL42: 0 | AM42: 0 | AN42: 0 | AO42: 999 | AP42: 1 | AQ42: 0 | AR42: 0 | AS42: 0 | AT42: 999 | AU42: 1 | AV42: 0 | AW42: 0 | AX42: 0 | AY42: 999 | AZ42: 1 | BA42: 0 | BB42: 0 | BC42: 0 | BD42: 999 | BE42: 1 | BF42: 0 | BG42: 0 | BH42: 0 | BI42: 999 | BJ42: 1 | BK42: 0 | BL42: 0 | BM42: 0 | BN42: 999 | BO42: 1 | BP42: 0 | BQ42: 0 | BR42: 999 | BS42: 0 | BT42: 0 | BU42: 0 | BV42: 0 | BW42: 0 | BX42: 0 | BY42: 0 | BZ42: 0 | CA42: 0 | CB42: 6 | CC42: 3.5 | CD42: 0
C43: 0 | S43: 0 | T43: 0 | U43: 0 | V43: 0 | W43: 0 | X43: 0 | Y43: 0 | AA43: 0 | AB43: 0 | AC43: 0 | AD43: 0 | AE43: 0 | AF43: 0 | AG43: 0 | AI43: 0 | AK43: 0 | AL43: 0 | AM43: 0 | AN43: 0 | AO43: 999 | AP43: 1 | AQ43: 0 | AR43: 0 | AS43: 0 | AT43: 999 | AU43: 1 | AV43: 0 | AW43: 0 | AX43: 0 | AY43: 999 | AZ43: 1 | BA43: 0 | BB43: 0 | BC43: 0 | BD43: 999 | BE43: 1 | BF43: 0 | BG43: 0 | BH43: 0 | BI43: 999 | BJ43: 1 | BK43: 0 | BL43: 0 | BM43: 0 | BN43: 999 | BO43: 1 | BP43: 0 | BQ43: 0 | BR43: 999 | BS43: 0 | BT43: 0 | BU43: 0 | BV43: 0 | BW43: 0 | BX43: 0 | BY43: 0 | BZ43: 0 | CA43: 0 | CB43: 7 | CC43: 4 | CD43: 0
C44: 0 | S44: 0 | T44: 0 | U44: 0 | V44: 0 | W44: 0 | X44: 0 | Y44: 0 | AA44: 0 | AB44: 0 | AC44: 0 | AD44: 0 | AE44: 0 | AF44: 0 | AG44: 0 | AI44: 0 | AK44: 0 | AL44: 0 | AM44: 0 | AN44: 0 | AO44: 999 | AP44: 1 | AQ44: 0 | AR44: 0 | AS44: 0 | AT44: 999 | AU44: 1 | AV44: 0 | AW44: 0 | AX44: 0 | AY44: 999 | AZ44: 1 | BA44: 0 | BB44: 0 | BC44: 0 | BD44: 999 | BE44: 1 | BF44: 0 | BG44: 0 | BH44: 0 | BI44: 999 | BJ44: 1 | BK44: 0 | BL44: 0 | BM44: 0 | BN44: 999 | BO44: 1 | BP44: 0 | BQ44: 0 | BR44: 999 | BS44: 0 | BT44: 0 | BU44: 0 | BV44: 0 | BW44: 0 | BX44: 0 | BY44: 0 | BZ44: 0 | CA44: 0 | CB44: 8 | CC44: 4.5 | CD44: 0
C45: 0 | S45: 0 | T45: 0 | U45: 0 | V45: 0 | W45: 0 | X45: 0 | Y45: 0 | AA45: 0 | AB45: 0 | AC45: 0 | AD45: 0 | AE45: 0 | AF45: 0 | AG45: 0 | AI45: 0 | AK45: 0 | AL45: 0 | AM45: 0 | AN45: 0 | AO45: 999 | AP45: 1 | AQ45: 0 | AR45: 0 | AS45: 0 | AT45: 999 | AU45: 1 | AV45: 0 | AW45: 0 | AX45: 0 | AY45: 999 | AZ45: 1 | BA45: 0 | BB45: 0 | BC45: 0 | BD45: 999 | BE45: 1 | BF45: 0 | BG45: 0 | BH45: 0 | BI45: 999 | BJ45: 1 | BK45: 0 | BL45: 0 | BM45: 0 | BN45: 999 | BO45: 1 | BP45: 0 | BQ45: 0 | BR45: 999 | BS45: 0 | BT45: 0 | BU45: 0 | BV45: 0 | BW45: 0 | BX45: 0 | BY45: 0 | BZ45: 0 | CA45: 0 | CB45: КД | CC45: 0 | CD45: 0
Z49: 1
B50: танец | C50: номер | D50: судейская бригада | S50: количество мест | Z50: место | AA50: сумма мест | AH50: судейская бригада
D51: 1 | E51: 2 | F51: 3 | G51: 0 | H51: 0 | I51: 0 | J51: 0 | K51: 0 | L51: 0 | M51: 0 | N51: 0 | O51: 0 | P51: 0 | Q51: 0 | R51: 0 | S51: 1 | T51: 1-2 | U51: 1-3 | V51: 1-4 | W51: 1-5 | X51: 1-6 | Y51: 1-7 | AA51: 1 | AB51: 1-2 | AC51: 1-3 | AD51: 1-4 | AE51: 1-5 | AF51: 1-6 | AG51: 1-7 | AH51: 123000000
B52: V | C52: 7 | D52: 1 | E52: 1 | F52: 1 | S52: 0 | T52: 0 | U52: 0 | V52: 0 | W52: 0 | X52: 0 | Y52: 0 | Z52: 1 | AA52: 0 | AB52: 0 | AC52: 0 | AD52: 0 | AE52: 0 | AF52: 0 | AG52: 0 | AH52: 111 | AI52: 0 | AK52: 0 | AL52: 0 | AM52: 0 | AN52: 0 | AO52: 999 | AP52: 1 | AQ52: 0 | AR52: 0 | AS52: 0 | AT52: 999 | AU52: 1 | AV52: 0 | AW52: 0 | AX52: 0 | AY52: 999 | AZ52: 1 | BA52: 0 | BB52: 0 | BC52: 0 | BD52: 999 | BE52: 1 | BF52: 0 | BG52: 0 | BH52: 0 | BI52: 999 | BJ52: 1 | BK52: 0 | BL52: 0 | BM52: 0 | BN52: 999 | BO52: 1 | BP52: 0 | BQ52: 0 | BR52: 999 | BS52: 0 | BT52: 0 | BU52: 0 | BV52: 0 | BW52: 0 | BX52: 0 | BY52: 0 | BZ52: 0 | CA52: 0 | CB52: 2 | CC52: 1.5 | CD52: 0
C53: 999 | S53: 0 | T53: 0 | U53: 0 | V53: 0 | W53: 0 | X53: 0 | Y53: 0 | AA53: 0 | AB53: 0 | AC53: 0 | AD53: 0 | AE53: 0 | AF53: 0 | AG53: 0 | AI53: 0 | AK53: 0 | AL53: 0 | AM53: 0 | AN53: 0 | AO53: 999 | AP53: 1 | AQ53: 0 | AR53: 0 | AS53: 0 | AT53: 999 | AU53: 1 | AV53: 0 | AW53: 0 | AX53: 0 | AY53: 999 | AZ53: 1 | BA53: 0 | BB53: 0 | BC53: 0 | BD53: 999 | BE53: 1 | BF53: 0 | BG53: 0 | BH53: 0 | BI53: 999 | BJ53: 1 | BK53: 0 | BL53: 0 | BM53: 0 | BN53: 999 | BO53: 1 | BP53: 0 | BQ53: 0 | BR53: 999 | BS53: 0 | BT53: 0 | BU53: 0 | BV53: 0 | BW53: 0 | BX53: 0 | BY53: 0 | BZ53: 0 | CA53: 0 | CB53: 3 | CC53: 2 | CD53: 0
C54: 0 | S54: 0 | T54: 0 | U54: 0 | V54: 0 | W54: 0 | X54: 0 | Y54: 0 | AA54: 0 | AB54: 0 | AC54: 0 | AD54: 0 | AE54: 0 | AF54: 0 | AG54: 0 | AI54: 0 | AK54: 0 | AL54: 0 | AM54: 0 | AN54: 0 | AO54: 999 | AP54: 1 | AQ54: 0 | AR54: 0 | AS54: 0 | AT54: 999 | AU54: 1 | AV54: 0 | AW54: 0 | AX54: 0 | AY54: 999 | AZ54: 1 | BA54: 0 | BB54: 0 | BC54: 0 | BD54: 999 | BE54: 1 | BF54: 0 | BG54: 0 | BH54: 0 | BI54: 999 | BJ54: 1 | BK54: 0 | BL54: 0 | BM54: 0 | BN54: 999 | BO54: 1 | BP54: 0 | BQ54: 0 | BR54: 999 | BS54: 0 | BT54: 0 | BU54: 0 | BV54: 0 | BW54: 0 | BX54: 0 | BY54: 0 | BZ54: 0 | CA54: 0 | CB54: 4 | CC54: 2.5 | CD54: 0
C55: 0 | S55: 0 | T55: 0 | U55: 0 | V55: 0 | W55: 0 | X55: 0 | Y55: 0 | AA55: 0 | AB55: 0 | AC55: 0 | AD55: 0 | AE55: 0 | AF55: 0 | AG55: 0 | AI55: 0 | AK55: 0 | AL55: 0 | AM55: 0 | AN55: 0 | AO55: 999 | AP55: 1 | AQ55: 0 | AR55: 0 | AS55: 0 | AT55: 999 | AU55: 1 | AV55: 0 | AW55: 0 | AX55: 0 | AY55: 999 | AZ55: 1 | BA55: 0 | BB55: 0 | BC55: 0 | BD55: 999 | BE55: 1 | BF55: 0 | BG55: 0 | BH55: 0 | BI55: 999 | BJ55: 1 | BK55: 0 | BL55: 0 | BM55: 0 | BN55: 999 | BO55: 1 | BP55: 0 | BQ55: 0 | BR55: 999 | BS55: 0 | BT55: 0 | BU55: 0 | BV55: 0 | BW55: 0 | BX55: 0 | BY55: 0 | BZ55: 0 | CA55: 0 | CB55: 5 | CC55: 3 | CD55: 0
C56: 0 | S56: 0 | T56: 0 | U56: 0 | V56: 0 | W56: 0 | X56: 0 | Y56: 0 | AA56: 0 | AB56: 0 | AC56: 0 | AD56: 0 | AE56: 0 | AF56: 0 | AG56: 0 | AI56: 0 | AK56: 0 | AL56: 0 | AM56: 0 | AN56: 0 | AO56: 999 | AP56: 1 | AQ56: 0 | AR56: 0 | AS56: 0 | AT56: 999 | AU56: 1 | AV56: 0 | AW56: 0 | AX56: 0 | AY56: 999 | AZ56: 1 | BA56: 0 | BB56: 0 | BC56: 0 | BD56: 999 | BE56: 1 | BF56: 0 | BG56: 0 | BH56: 0 | BI56: 999 | BJ56: 1 | BK56: 0 | BL56: 0 | BM56: 0 | BN56: 999 | BO56: 1 | BP56: 0 | BQ56: 0 | BR56: 999 | BS56: 0 | BT56: 0 | BU56: 0 | BV56: 0 | BW56: 0 | BX56: 0 | BY56: 0 | BZ56: 0 | CA56: 0 | CB56: 6 | CC56: 3.5 | CD56: 0
C57: 0 | S57: 0 | T57: 0 | U57: 0 | V57: 0 | W57: 0 | X57: 0 | Y57: 0 | AA57: 0 | AB57: 0 | AC57: 0 | AD57: 0 | AE57: 0 | AF57: 0 | AG57: 0 | AI57: 0 | AK57: 0 | AL57: 0 | AM57: 0 | AN57: 0 | AO57: 999 | AP57: 1 | AQ57: 0 | AR57: 0 | AS57: 0 | AT57: 999 | AU57: 1 | AV57: 0 | AW57: 0 | AX57: 0 | AY57: 999 | AZ57: 1 | BA57: 0 | BB57: 0 | BC57: 0 | BD57: 999 | BE57: 1 | BF57: 0 | BG57: 0 | BH57: 0 | BI57: 999 | BJ57: 1 | BK57: 0 | BL57: 0 | BM57: 0 | BN57: 999 | BO57: 1 | BP57: 0 | BQ57: 0 | BR57: 999 | BS57: 0 | BT57: 0 | BU57: 0 | BV57: 0 | BW57: 0 | BX57: 0 | BY57: 0 | BZ57: 0 | CA57: 0 | CB57: 7 | CC57: 4 | CD57: 0
C58: 0 | S58: 0 | T58: 0 | U58: 0 | V58: 0 | W58: 0 | X58: 0 | Y58: 0 | AA58: 0 | AB58: 0 | AC58: 0 | AD58: 0 | AE58: 0 | AF58: 0 | AG58: 0 | AI58: 0 | AK58: 0 | AL58: 0 | AM58: 0 | AN58: 0 | AO58: 999 | AP58: 1 | AQ58: 0 | AR58: 0 | AS58: 0 | AT58: 999 | AU58: 1 | AV58: 0 | AW58: 0 | AX58: 0 | AY58: 999 | AZ58: 1 | BA58: 0 | BB58: 0 | BC58: 0 | BD58: 999 | BE58: 1 | BF58: 0 | BG58: 0 | BH58: 0 | BI58: 999 | BJ58: 1 | BK58: 0 | BL58: 0 | BM58: 0 | BN58: 999 | BO58: 1 | BP58: 0 | BQ58: 0 | BR58: 999 | BS58: 0 | BT58: 0 | BU58: 0 | BV58: 0 | BW58: 0 | BX58: 0 | BY58: 0 | BZ58: 0 | CA58: 0 | CB58: 8 | CC58: 4.5 | CD58: 0
C59: 0 | S59: 0 | T59: 0 | U59: 0 | V59: 0 | W59: 0 | X59: 0 | Y59: 0 | AA59: 0 | AB59: 0 | AC59: 0 | AD59: 0 | AE59: 0 | AF59: 0 | AG59: 0 | AI59: 0 | AK59: 0 | AL59: 0 | AM59: 0 | AN59: 0 | AO59: 999 | AP59: 1 | AQ59: 0 | AR59: 0 | AS59: 0 | AT59: 999 | AU59: 1 | AV59: 0 | AW59: 0 | AX59: 0 | AY59: 999 | AZ59: 1 | BA59: 0 | BB59: 0 | BC59: 0 | BD59: 999 | BE59: 1 | BF59: 0 | BG59: 0 | BH59: 0 | BI59: 999 | BJ59: 1 | BK59: 0 | BL59: 0 | BM59: 0 | BN59: 999 | BO59: 1 | BP59: 0 | BQ59: 0 | BR59: 999 | BS59: 0 | BT59: 0 | BU59: 0 | BV59: 0 | BW59: 0 | BX59: 0 | BY59: 0 | BZ59: 0 | CA59: 0 | CB59: КД | CC59: 0 | CD59: 0
Z63: 0
B64: танец | C64: номер | D64: судейская бригада | S64: количество мест | Z64: место | AA64: сумма мест | AH64: судейская бригада
D65: 1 | E65: 2 | F65: 3 | G65: 0 | H65: 0 | I65: 0 | J65: 0 | K65: 0 | L65: 0 | M65: 0 | N65: 0 | O65: 0 | P65: 0 | Q65: 0 | R65: 0 | S65: 1 | T65: 1-2 | U65: 1-3 | V65: 1-4 | W65: 1-5 | X65: 1-6 | Y65: 1-7 | AA65: 1 | AB65: 1-2 | AC65: 1-3 | AD65: 1-4 | AE65: 1-5 | AF65: 1-6 | AG65: 1-7 | AH65: 123000000
B66: 0 | C66: 7 | S66: 0 | T66: 0 | U66: 0 | V66: 0 | W66: 0 | X66: 0 | Y66: 0 | AA66: 0 | AB66: 0 | AC66: 0 | AD66: 0 | AE66: 0 | AF66: 0 | AG66: 0 | AI66: 0 | AK66: 0 | AL66: 0 | AM66: 0 | AN66: 0 | AO66: 999 | AP66: 1 | AQ66: 0 | AR66: 0 | AS66: 0 | AT66: 999 | AU66: 1 | AV66: 0 | AW66: 0 | AX66: 0 | AY66: 999 | AZ66: 1 | BA66: 0 | BB66: 0 | BC66: 0 | BD66: 999 | BE66: 1 | BF66: 0 | BG66: 0 | BH66: 0 | BI66: 999 | BJ66: 1 | BK66: 0 | BL66: 0 | BM66: 0 | BN66: 999 | BO66: 1 | BP66: 0 | BQ66: 0 | BR66: 999 | BS66: 0 | BT66: 0 | BU66: 0 | BV66: 0 | BW66: 0 | BX66: 0 | BY66: 0 | BZ66: 0 | CA66: 0 | CB66: 2 | CC66: 1.5 | CD66: 0
C67: 999 | S67: 0 | T67: 0 | U67: 0 | V67: 0 | W67: 0 | X67: 0 | Y67: 0 | AA67: 0 | AB67: 0 | AC67: 0 | AD67: 0 | AE67: 0 | AF67: 0 | AG67: 0 | AI67: 0 | AK67: 0 | AL67: 0 | AM67: 0 | AN67: 0 | AO67: 999 | AP67: 1 | AQ67: 0 | AR67: 0 | AS67: 0 | AT67: 999 | AU67: 1 | AV67: 0 | AW67: 0 | AX67: 0 | AY67: 999 | AZ67: 1 | BA67: 0 | BB67: 0 | BC67: 0 | BD67: 999 | BE67: 1 | BF67: 0 | BG67: 0 | BH67: 0 | BI67: 999 | BJ67: 1 | BK67: 0 | BL67: 0 | BM67: 0 | BN67: 999 | BO67: 1 | BP67: 0 | BQ67: 0 | BR67: 999 | BS67: 0 | BT67: 0 | BU67: 0 | BV67: 0 | BW67: 0 | BX67: 0 | BY67: 0 | BZ67: 0 | CA67: 0 | CB67: 3 | CC67: 2 | CD67: 0
C68: 0 | S68: 0 | T68: 0 | U68: 0 | V68: 0 | W68: 0 | X68: 0 | Y68: 0 | AA68: 0 | AB68: 0 | AC68: 0 | AD68: 0 | AE68: 0 | AF68: 0 | AG68: 0 | AI68: 0 | AK68: 0 | AL68: 0 | AM68: 0 | AN68: 0 | AO68: 999 | AP68: 1 | AQ68: 0 | AR68: 0 | AS68: 0 | AT68: 999 | AU68: 1 | AV68: 0 | AW68: 0 | AX68: 0 | AY68: 999 | AZ68: 1 | BA68: 0 | BB68: 0 | BC68: 0 | BD68: 999 | BE68: 1 | BF68: 0 | BG68: 0 | BH68: 0 | BI68: 999 | BJ68: 1 | BK68: 0 | BL68: 0 | BM68: 0 | BN68: 999 | BO68: 1 | BP68: 0 | BQ68: 0 | BR68: 999 | BS68: 0 | BT68: 0 | BU68: 0 | BV68: 0 | BW68: 0 | BX68: 0 | BY68: 0 | BZ68: 0 | CA68: 0 | CB68: 4 | CC68: 2.5 | CD68: 0
C69: 0 | S69: 0 | T69: 0 | U69: 0 | V69: 0 | W69: 0 | X69: 0 | Y69: 0 | AA69: 0 | AB69: 0 | AC69: 0 | AD69: 0 | AE69: 0 | AF69: 0 | AG69: 0 | AI69: 0 | AK69: 0 | AL69: 0 | AM69: 0 | AN69: 0 | AO69: 999 | AP69: 1 | AQ69: 0 | AR69: 0 | AS69: 0 | AT69: 999 | AU69: 1 | AV69: 0 | AW69: 0 | AX69: 0 | AY69: 999 | AZ69: 1 | BA69: 0 | BB69: 0 | BC69: 0 | BD69: 999 | BE69: 1 | BF69: 0 | BG69: 0 | BH69: 0 | BI69: 999 | BJ69: 1 | BK69: 0 | BL69: 0 | BM69: 0 | BN69: 999 | BO69: 1 | BP69: 0 | BQ69: 0 | BR69: 999 | BS69: 0 | BT69: 0 | BU69: 0 | BV69: 0 | BW69: 0 | BX69: 0 | BY69: 0 | BZ69: 0 | CA69: 0 | CB69: 5 | CC69: 3 | CD69: 0
C70: 0 | S70: 0 | T70: 0 | U70: 0 | V70: 0 | W70: 0 | X70: 0 | Y70: 0 | AA70: 0 | AB70: 0 | AC70: 0 | AD70: 0 | AE70: 0 | AF70: 0 | AG70: 0 | AI70: 0 | AK70: 0 | AL70: 0 | AM70: 0 | AN70: 0 | AO70: 999 | AP70: 1 | AQ70: 0 | AR70: 0 | AS70: 0 | AT70: 999 | AU70: 1 | AV70: 0 | AW70: 0 | AX70: 0 | AY70: 999 | AZ70: 1 | BA70: 0 | BB70: 0 | BC70: 0 | BD70: 999 | BE70: 1 | BF70: 0 | BG70: 0 | BH70: 0 | BI70: 999 | BJ70: 1 | BK70: 0 | BL70: 0 | BM70: 0 | BN70: 999 | BO70: 1 | BP70: 0 | BQ70: 0 | BR70: 999 | BS70: 0 | BT70: 0 | BU70: 0 | BV70: 0 | BW70: 0 | BX70: 0 | BY70: 0 | BZ70: 0 | CA70: 0 | CB70: 6 | CC70: 3.5 | CD70: 0
C71: 0 | S71: 0 | T71: 0 | U71: 0 | V71: 0 | W71: 0 | X71: 0 | Y71: 0 | AA71: 0 | AB71: 0 | AC71: 0 | AD71: 0 | AE71: 0 | AF71: 0 | AG71: 0 | AI71: 0 | AK71: 0 | AL71: 0 | AM71: 0 | AN71: 0 | AO71: 999 | AP71: 1 | AQ71: 0 | AR71: 0 | AS71: 0 | AT71: 999 | AU71: 1 | AV71: 0 | AW71: 0 | AX71: 0 | AY71: 999 | AZ71: 1 | BA71: 0 | BB71: 0 | BC71: 0 | BD71: 999 | BE71: 1 | BF71: 0 | BG71: 0 | BH71: 0 | BI71: 999 | BJ71: 1 | BK71: 0 | BL71: 0 | BM71: 0 | BN71: 999 | BO71: 1 | BP71: 0 | BQ71: 0 | BR71: 999 | BS71: 0 | BT71: 0 | BU71: 0 | BV71: 0 | BW71: 0 | BX71: 0 | BY71: 0 | BZ71: 0 | CA71: 0 | CB71: 7 | CC71: 4 | CD71: 0
C72: 0 | S72: 0 | T72: 0 | U72: 0 | V72: 0 | W72: 0 | X72: 0 | Y72: 0 | AA72: 0 | AB72: 0 | AC72: 0 | AD72: 0 | AE72: 0 | AF72: 0 | AG72: 0 | AI72: 0 | AK72: 0 | AL72: 0 | AM72: 0 | AN72: 0 | AO72: 999 | AP72: 1 | AQ72: 0 | AR72: 0 | AS72: 0 | AT72: 999 | AU72: 1 | AV72: 0 | AW72: 0 | AX72: 0 | AY72: 999 | AZ72: 1 | BA72: 0 | BB72: 0 | BC72: 0 | BD72: 999 | BE72: 1 | BF72: 0 | BG72: 0 | BH72: 0 | BI72: 999 | BJ72: 1 | BK72: 0 | BL72: 0 | BM72: 0 | BN72: 999 | BO72: 1 | BP72: 0 | BQ72: 0 | BR72: 999 | BS72: 0 | BT72: 0 | BU72: 0 | BV72: 0 | BW72: 0 | BX72: 0 | BY72: 0 | BZ72: 0 | CA72: 0 | CB72: 8 | CC72: 4.5 | CD72: 0
C73: 0 | S73: 0 | T73: 0 | U73: 0 | V73: 0 | W73: 0 | X73: 0 | Y73: 0 | AA73: 0 | AB73: 0 | AC73: 0 | AD73: 0 | AE73: 0 | AF73: 0 | AG73: 0 | AI73: 0 | AK73: 0 | AL73: 0 | AM73: 0 | AN73: 0 | AO73: 999 | AP73: 1 | AQ73: 0 | AR73: 0 | AS73: 0 | AT73: 999 | AU73: 1 | AV73: 0 | AW73: 0 | AX73: 0 | AY73: 999 | AZ73: 1 | BA73: 0 | BB73: 0 | BC73: 0 | BD73: 999 | BE73: 1 | BF73: 0 | BG73: 0 | BH73: 0 | BI73: 999 | BJ73: 1 | BK73: 0 | BL73: 0 | BM73: 0 | BN73: 999 | BO73: 1 | BP73: 0 | BQ73: 0 | BR73: 999 | BS73: 0 | BT73: 0 | BU73: 0 | BV73: 0 | BW73: 0 | BX73: 0 | BY73: 0 | BZ73: 0 | CA73: 0 | CB73: КД | CC73: 0 | CD73: 0
C76: 0 | D76: ! | E76: ! | F76: ! | G76: 0 | H76: 0 | I76: 0 | J76: 0 | K76: 0 | L76: 0 | M76: 0 | N76: 0 | O76: 0 | P76: 0 | Q76: 0 | R76: 0 | Z76: 0
Z77: 0
B78: танец | C78: номер | D78: судейская бригада | S78: количество мест | Z78: место | AA78: сумма мест | AH78: судейская бригада
D79: 1 | E79: 2 | F79: 3 | G79: 0 | H79: 0 | I79: 0 | J79: 0 | K79: 0 | L79: 0 | M79: 0 | N79: 0 | O79: 0 | P79: 0 | Q79: 0 | R79: 0 | S79: 1 | T79: 1-2 | U79: 1-3 | V79: 1-4 | W79: 1-5 | X79: 1-6 | Y79: 1-7 | AA79: 1 | AB79: 1-2 | AC79: 1-3 | AD79: 1-4 | AE79: 1-5 | AF79: 1-6 | AG79: 1-7 | AH79: 123000000
B80: 0 | C80: 7 | S80: 0 | T80: 0 | U80: 0 | V80: 0 | W80: 0 | X80: 0 | Y80: 0 | AA80: 0 | AB80: 0 | AC80: 0 | AD80: 0 | AE80: 0 | AF80: 0 | AG80: 0 | AI80: 0 | AK80: 0 | AL80: 0 | AM80: 0 | AN80: 0 | AO80: 999 | AP80: 1 | AQ80: 0 | AR80: 0 | AS80: 0 | AT80: 999 | AU80: 1 | AV80: 0 | AW80: 0 | AX80: 0 | AY80: 999 | AZ80: 1 | BA80: 0 | BB80: 0 | BC80: 0 | BD80: 999 | BE80: 1 | BF80: 0 | BG80: 0 | BH80: 0 | BI80: 999 | BJ80: 1 | BK80: 0 | BL80: 0 | BM80: 0 | BN80: 999 | BO80: 1 | BP80: 0 | BQ80: 0 | BR80: 999 | BS80: 0 | BT80: 0 | BU80: 0 | BV80: 0 | BW80: 0 | BX80: 0 | BY80: 0 | BZ80: 0 | CA80: 0 | CB80: 2 | CC80: 1.5 | CD80: 0
C81: 999 | S81: 0 | T81: 0 | U81: 0 | V81: 0 | W81: 0 | X81: 0 | Y81: 0 | AA81: 0 | AB81: 0 | AC81: 0 | AD81: 0 | AE81: 0 | AF81: 0 | AG81: 0 | AI81: 0 | AK81: 0 | AL81: 0 | AM81: 0 | AN81: 0 | AO81: 999 | AP81: 1 | AQ81: 0 | AR81: 0 | AS81: 0 | AT81: 999 | AU81: 1 | AV81: 0 | AW81: 0 | AX81: 0 | AY81: 999 | AZ81: 1 | BA81: 0 | BB81: 0 | BC81: 0 | BD81: 999 | BE81: 1 | BF81: 0 | BG81: 0 | BH81: 0 | BI81: 999 | BJ81: 1 | BK81: 0 | BL81: 0 | BM81: 0 | BN81: 999 | BO81: 1 | BP81: 0 | BQ81: 0 | BR81: 999 | BS81: 0 | BT81: 0 | BU81: 0 | BV81: 0 | BW81: 0 | BX81: 0 | BY81: 0 | BZ81: 0 | CA81: 0 | CB81: 3 | CC81: 2 | CD81: 0
C82: 0 | S82: 0 | T82: 0 | U82: 0 | V82: 0 | W82: 0 | X82: 0 | Y82: 0 | AA82: 0 | AB82: 0 | AC82: 0 | AD82: 0 | AE82: 0 | AF82: 0 | AG82: 0 | AI82: 0 | AK82: 0 | AL82: 0 | AM82: 0 | AN82: 0 | AO82: 999 | AP82: 1 | AQ82: 0 | AR82: 0 | AS82: 0 | AT82: 999 | AU82: 1 | AV82: 0 | AW82: 0 | AX82: 0 | AY82: 999 | AZ82: 1 | BA82: 0 | BB82: 0 | BC82: 0 | BD82: 999 | BE82: 1 | BF82: 0 | BG82: 0 | BH82: 0 | BI82: 999 | BJ82: 1 | BK82: 0 | BL82: 0 | BM82: 0 | BN82: 999 | BO82: 1 | BP82: 0 | BQ82: 0 | BR82: 999 | BS82: 0 | BT82: 0 | BU82: 0 | BV82: 0 | BW82: 0 | BX82: 0 | BY82: 0 | BZ82: 0 | CA82: 0 | CB82: 4 | CC82: 2.5 | CD82: 0
C83: 0 | S83: 0 | T83: 0 | U83: 0 | V83: 0 | W83: 0 | X83: 0 | Y83: 0 | AA83: 0 | AB83: 0 | AC83: 0 | AD83: 0 | AE83: 0 | AF83: 0 | AG83: 0 | AI83: 0 | AK83: 0 | AL83: 0 | AM83: 0 | AN83: 0 | AO83: 999 | AP83: 1 | AQ83: 0 | AR83: 0 | AS83: 0 | AT83: 999 | AU83: 1 | AV83: 0 | AW83: 0 | AX83: 0 | AY83: 999 | AZ83: 1 | BA83: 0 | BB83: 0 | BC83: 0 | BD83: 999 | BE83: 1 | BF83: 0 | BG83: 0 | BH83: 0 | BI83: 999 | BJ83: 1 | BK83: 0 | BL83: 0 | BM83: 0 | BN83: 999 | BO83: 1 | BP83: 0 | BQ83: 0 | BR83: 999 | BS83: 0 | BT83: 0 | BU83: 0 | BV83: 0 | BW83: 0 | BX83: 0 | BY83: 0 | BZ83: 0 | CA83: 0 | CB83: 5 | CC83: 3 | CD83: 0
C84: 0 | S84: 0 | T84: 0 | U84: 0 | V84: 0 | W84: 0 | X84: 0 | Y84: 0 | AA84: 0 | AB84: 0 | AC84: 0 | AD84: 0 | AE84: 0 | AF84: 0 | AG84: 0 | AI84: 0 | AK84: 0 | AL84: 0 | AM84: 0 | AN84: 0 | AO84: 999 | AP84: 1 | AQ84: 0 | AR84: 0 | AS84: 0 | AT84: 999 | AU84: 1 | AV84: 0 | AW84: 0 | AX84: 0 | AY84: 999 | AZ84: 1 | BA84: 0 | BB84: 0 | BC84: 0 | BD84: 999 | BE84: 1 | BF84: 0 | BG84: 0 | BH84: 0 | BI84: 999 | BJ84: 1 | BK84: 0 | BL84: 0 | BM84: 0 | BN84: 999 | BO84: 1 | BP84: 0 | BQ84: 0 | BR84: 999 | BS84: 0 | BT84: 0 | BU84: 0 | BV84: 0 | BW84: 0 | BX84: 0 | BY84: 0 | BZ84: 0 | CA84: 0 | CB84: 6 | CC84: 3.5 | CD84: 0
C85: 0 | S85: 0 | T85: 0 | U85: 0 | V85: 0 | W85: 0 | X85: 0 | Y85: 0 | AA85: 0 | AB85: 0 | AC85: 0 | AD85: 0 | AE85: 0 | AF85: 0 | AG85: 0 | AI85: 0 | AK85: 0 | AL85: 0 | AM85: 0 | AN85: 0 | AO85: 999 | AP85: 1 | AQ85: 0 | AR85: 0 | AS85: 0 | AT85: 999 | AU85: 1 | AV85: 0 | AW85: 0 | AX85: 0 | AY85: 999 | AZ85: 1 | BA85: 0 | BB85: 0 | BC85: 0 | BD85: 999 | BE85: 1 | BF85: 0 | BG85: 0 | BH85: 0 | BI85: 999 | BJ85: 1 | BK85: 0 | BL85: 0 | BM85: 0 | BN85: 999 | BO85: 1 | BP85: 0 | BQ85: 0 | BR85: 999 | BS85: 0 | BT85: 0 | BU85: 0 | BV85: 0 | BW85: 0 | BX85: 0 | BY85: 0 | BZ85: 0 | CA85: 0 | CB85: 7 | CC85: 4 | CD85: 0
C86: 0 | S86: 0 | T86: 0 | U86: 0 | V86: 0 | W86: 0 | X86: 0 | Y86: 0 | AA86: 0 | AB86: 0 | AC86: 0 | AD86: 0 | AE86: 0 | AF86: 0 | AG86: 0 | AI86: 0 | AK86: 0 | AL86: 0 | AM86: 0 | AN86: 0 | AO86: 999 | AP86: 1 | AQ86: 0 | AR86: 0 | AS86: 0 | AT86: 999 | AU86: 1 | AV86: 0 | AW86: 0 | AX86: 0 | AY86: 999 | AZ86: 1 | BA86: 0 | BB86: 0 | BC86: 0 | BD86: 999 | BE86: 1 | BF86: 0 | BG86: 0 | BH86: 0 | BI86: 999 | BJ86: 1 | BK86: 0 | BL86: 0 | BM86: 0 | BN86: 999 | BO86: 1 | BP86: 0 | BQ86: 0 | BR86: 999 | BS86: 0 | BT86: 0 | BU86: 0 | BV86: 0 | BW86: 0 | BX86: 0 | BY86: 0 | BZ86: 0 | CA86: 0 | CB86: 8 | CC86: 4.5 | CD86: 0
C87: 0 | S87: 0 | T87: 0 | U87: 0 | V87: 0 | W87: 0 | X87: 0 | Y87: 0 | AA87: 0 | AB87: 0 | AC87: 0 | AD87: 0 | AE87: 0 | AF87: 0 | AG87: 0 | AI87: 0 | AK87: 0 | AL87: 0 | AM87: 0 | AN87: 0 | AO87: 999 | AP87: 1 | AQ87: 0 | AR87: 0 | AS87: 0 | AT87: 999 | AU87: 1 | AV87: 0 | AW87: 0 | AX87: 0 | AY87: 999 | AZ87: 1 | BA87: 0 | BB87: 0 | BC87: 0 | BD87: 999 | BE87: 1 | BF87: 0 | BG87: 0 | BH87: 0 | BI87: 999 | BJ87: 1 | BK87: 0 | BL87: 0 | BM87: 0 | BN87: 999 | BO87: 1 | BP87: 0 | BQ87: 0 | BR87: 999 | BS87: 0 | BT87: 0 | BU87: 0 | BV87: 0 | BW87: 0 | BX87: 0 | BY87: 0 | BZ87: 0 | CA87: 0 | CB87: КД | CC87: 0 | CD87: 0
C90: 0 | D90: ! | E90: ! | F90: ! | G90: 0 | H90: 0 | I90: 0 | J90: 0 | K90: 0 | L90: 0 | M90: 0 | N90: 0 | O90: 0 | P90: 0 | Q90: 0 | R90: 0 | Z90: 0
Z91: 0
B92: танец | C92: номер | D92: судейская бригада | S92: количество мест | Z92: место | AA92: сумма мест | AH92: судейская бригада
D93: 1 | E93: 2 | F93: 3 | G93: 0 | H93: 0 | I93: 0 | J93: 0 | K93: 0 | L93: 0 | M93: 0 | N93: 0 | O93: 0 | P93: 0 | Q93: 0 | R93: 0 | S93: 1 | T93: 1-2 | U93: 1-3 | V93: 1-4 | W93: 1-5 | X93: 1-6 | Y93: 1-7 | AA93: 1 | AB93: 1-2 | AC93: 1-3 | AD93: 1-4 | AE93: 1-5 | AF93: 1-6 | AG93: 1-7 | AH93: 123000000
B94: 0 | C94: 7 | S94: 0 | T94: 0 | U94: 0 | V94: 0 | W94: 0 | X94: 0 | Y94: 0 | AA94: 0 | AB94: 0 | AC94: 0 | AD94: 0 | AE94: 0 | AF94: 0 | AG94: 0 | AI94: 0 | AK94: 0 | AL94: 0 | AM94: 0 | AN94: 0 | AO94: 999 | AP94: 1 | AQ94: 0 | AR94: 0 | AS94: 0 | AT94: 999 | AU94: 1 | AV94: 0 | AW94: 0 | AX94: 0 | AY94: 999 | AZ94: 1 | BA94: 0 | BB94: 0 | BC94: 0 | BD94: 999 | BE94: 1 | BF94: 0 | BG94: 0 | BH94: 0 | BI94: 999 | BJ94: 1 | BK94: 0 | BL94: 0 | BM94: 0 | BN94: 999 | BO94: 1 | BP94: 0 | BQ94: 0 | BR94: 999 | BS94: 0 | BT94: 0 | BU94: 0 | BV94: 0 | BW94: 0 | BX94: 0 | BY94: 0 | BZ94: 0 | CA94: 0 | CB94: 2 | CC94: 1.5 | CD94: 0
C95: 999 | S95: 0 | T95: 0 | U95: 0 | V95: 0 | W95: 0 | X95: 0 | Y95: 0 | AA95: 0 | AB95: 0 | AC95: 0 | AD95: 0 | AE95: 0 | AF95: 0 | AG95: 0 | AI95: 0 | AK95: 0 | AL95: 0 | AM95: 0 | AN95: 0 | AO95: 999 | AP95: 1 | AQ95: 0 | AR95: 0 | AS95: 0 | AT95: 999 | AU95: 1 | AV95: 0 | AW95: 0 | AX95: 0 | AY95: 999 | AZ95: 1 | BA95: 0 | BB95: 0 | BC95: 0 | BD95: 999 | BE95: 1 | BF95: 0 | BG95: 0 | BH95: 0 | BI95: 999 | BJ95: 1 | BK95: 0 | BL95: 0 | BM95: 0 | BN95: 999 | BO95: 1 | BP95: 0 | BQ95: 0 | BR95: 999 | BS95: 0 | BT95: 0 | BU95: 0 | BV95: 0 | BW95: 0 | BX95: 0 | BY95: 0 | BZ95: 0 | CA95: 0 | CB95: 3 | CC95: 2 | CD95: 0
C96: 0 | S96: 0 | T96: 0 | U96: 0 | V96: 0 | W96: 0 | X96: 0 | Y96: 0 | AA96: 0 | AB96: 0 | AC96: 0 | AD96: 0 | AE96: 0 | AF96: 0 | AG96: 0 | AI96: 0 | AK96: 0 | AL96: 0 | AM96: 0 | AN96: 0 | AO96: 999 | AP96: 1 | AQ96: 0 | AR96: 0 | AS96: 0 | AT96: 999 | AU96: 1 | AV96: 0 | AW96: 0 | AX96: 0 | AY96: 999 | AZ96: 1 | BA96: 0 | BB96: 0 | BC96: 0 | BD96: 999 | BE96: 1 | BF96: 0 | BG96: 0 | BH96: 0 | BI96: 999 | BJ96: 1 | BK96: 0 | BL96: 0 | BM96: 0 | BN96: 999 | BO96: 1 | BP96: 0 | BQ96: 0 | BR96: 999 | BS96: 0 | BT96: 0 | BU96: 0 | BV96: 0 | BW96: 0 | BX96: 0 | BY96: 0 | BZ96: 0 | CA96: 0 | CB96: 4 | CC96: 2.5 | CD96: 0
C97: 0 | S97: 0 | T97: 0 | U97: 0 | V97: 0 | W97: 0 | X97: 0 | Y97: 0 | AA97: 0 | AB97: 0 | AC97: 0 | AD97: 0 | AE97: 0 | AF97: 0 | AG97: 0 | AI97: 0 | AK97: 0 | AL97: 0 | AM97: 0 | AN97: 0 | AO97: 999 | AP97: 1 | AQ97: 0 | AR97: 0 | AS97: 0 | AT97: 999 | AU97: 1 | AV97: 0 | AW97: 0 | AX97: 0 | AY97: 999 | AZ97: 1 | BA97: 0 | BB97: 0 | BC97: 0 | BD97: 999 | BE97: 1 | BF97: 0 | BG97: 0 | BH97: 0 | BI97: 999 | BJ97: 1 | BK97: 0 | BL97: 0 | BM97: 0 | BN97: 999 | BO97: 1 | BP97: 0 | BQ97: 0 | BR97: 999 | BS97: 0 | BT97: 0 | BU97: 0 | BV97: 0 | BW97: 0 | BX97: 0 | BY97: 0 | BZ97: 0 | CA97: 0 | CB97: 5 | CC97: 3 | CD97: 0
C98: 0 | S98: 0 | T98: 0 | U98: 0 | V98: 0 | W98: 0 | X98: 0 | Y98: 0 | AA98: 0 | AB98: 0 | AC98: 0 | AD98: 0 | AE98: 0 | AF98: 0 | AG98: 0 | AI98: 0 | AK98: 0 | AL98: 0 | AM98: 0 | AN98: 0 | AO98: 999 | AP98: 1 | AQ98: 0 | AR98: 0 | AS98: 0 | AT98: 999 | AU98: 1 | AV98: 0 | AW98: 0 | AX98: 0 | AY98: 999 | AZ98: 1 | BA98: 0 | BB98: 0 | BC98: 0 | BD98: 999 | BE98: 1 | BF98: 0 | BG98: 0 | BH98: 0 | BI98: 999 | BJ98: 1 | BK98: 0 | BL98: 0 | BM98: 0 | BN98: 999 | BO98: 1 | BP98: 0 | BQ98: 0 | BR98: 999 | BS98: 0 | BT98: 0 | BU98: 0 | BV98: 0 | BW98: 0 | BX98: 0 | BY98: 0 | BZ98: 0 | CA98: 0 | CB98: 6 | CC98: 3.5 | CD98: 0
C99: 0 | S99: 0 | T99: 0 | U99: 0 | V99: 0 | W99: 0 | X99: 0 | Y99: 0 | AA99: 0 | AB99: 0 | AC99: 0 | AD99: 0 | AE99: 0 | AF99: 0 | AG99: 0 | AI99: 0 | AK99: 0 | AL99: 0 | AM99: 0 | AN99: 0 | AO99: 999 | AP99: 1 | AQ99: 0 | AR99: 0 | AS99: 0 | AT99: 999 | AU99: 1 | AV99: 0 | AW99: 0 | AX99: 0 | AY99: 999 | AZ99: 1 | BA99: 0 | BB99: 0 | BC99: 0 | BD99: 999 | BE99: 1 | BF99: 0 | BG99: 0 | BH99: 0 | BI99: 999 | BJ99: 1 | BK99: 0 | BL99: 0 | BM99: 0 | BN99: 999 | BO99: 1 | BP99: 0 | BQ99: 0 | BR99: 999 | BS99: 0 | BT99: 0 | BU99: 0 | BV99: 0 | BW99: 0 | BX99: 0 | BY99: 0 | BZ99: 0 | CA99: 0 | CB99: 7 | CC99: 4 | CD99: 0
C100: 0 | S100: 0 | T100: 0 | U100: 0 | V100: 0 | W100: 0 | X100: 0 | Y100: 0 | AA100: 0 | AB100: 0 | AC100: 0 | AD100: 0 | AE100: 0 | AF100: 0 | AG100: 0 | AI100: 0 | AK100: 0 | AL100: 0 | AM100: 0 | AN100: 0 | AO100: 999 | AP100: 1 | AQ100: 0 | AR100: 0 | AS100: 0 | AT100: 999 | AU100: 1 | AV100: 0 | AW100: 0 | AX100: 0 | AY100: 999 | AZ100: 1 | BA100: 0 | BB100: 0 | BC100: 0 | BD100: 999 | BE100: 1 | BF100: 0 | BG100: 0 | BH100: 0 | BI100: 999 | BJ100: 1 | BK100: 0 | BL100: 0 | BM100: 0 | BN100: 999 | BO100: 1 | BP100: 0 | BQ100: 0 | BR100: 999 | BS100: 0 | BT100: 0 | BU100: 0 | BV100: 0 | BW100: 0 | BX100: 0 | BY100: 0 | BZ100: 0 | CA100: 0 | CB100: 8 | CC100: 4.5 | CD100: 0
C101: 0 | S101: 0 | T101: 0 | U101: 0 | V101: 0 | W101: 0 | X101: 0 | Y101: 0 | AA101: 0 | AB101: 0 | AC101: 0 | AD101: 0 | AE101: 0 | AF101: 0 | AG101: 0 | AI101: 0 | AK101: 0 | AL101: 0 | AM101: 0 | AN101: 0 | AO101: 999 | AP101: 1 | AQ101: 0 | AR101: 0 | AS101: 0 | AT101: 999 | AU101: 1 | AV101: 0 | AW101: 0 | AX101: 0 | AY101: 999 | AZ101: 1 | BA101: 0 | BB101: 0 | BC101: 0 | BD101: 999 | BE101: 1 | BF101: 0 | BG101: 0 | BH101: 0 | BI101: 999 | BJ101: 1 | BK101: 0 | BL101: 0 | BM101: 0 | BN101: 999 | BO101: 1 | BP101: 0 | BQ101: 0 | BR101: 999 | BS101: 0 | BT101: 0 | BU101: 0 | BV101: 0 | BW101: 0 | BX101: 0 | BY101: 0 | BZ101: 0 | CA101: 0 | CB101: КД | CC101: 0 | CD101: 0
C104: 0 | D104: ! | E104: ! | F104: ! | G104: 0 | H104: 0 | I104: 0 | J104: 0 | K104: 0 | L104: 0 | M104: 0 | N104: 0 | O104: 0 | P104: 0 | Q104: 0 | R104: 0 | Z104: 0
Z105: 0
B106: танец | C106: номер | D106: судейская бригада | S106: количество мест | Z106: место | AA106: сумма мест | AH106: судейская бригада
D107: 1 | E107: 2 | F107: 3 | G107: 0 | H107: 0 | I107: 0 | J107: 0 | K107: 0 | L107: 0 | M107: 0 | N107: 0 | O107: 0 | P107: 0 | Q107: 0 | R107: 0 | S107: 1 | T107: 1-2 | U107: 1-3 | V107: 1-4 | W107: 1-5 | X107: 1-6 | Y107: 1-7 | AA107: 1 | AB107: 1-2 | AC107: 1-3 | AD107: 1-4 | AE107: 1-5 | AF107: 1-6 | AG107: 1-7 | AH107: 123000000
B108: 0 | C108: 7 | S108: 0 | T108: 0 | U108: 0 | V108: 0 | W108: 0 | X108: 0 | Y108: 0 | AA108: 0 | AB108: 0 | AC108: 0 | AD108: 0 | AE108: 0 | AF108: 0 | AG108: 0 | AI108: 0 | AK108: 0 | AL108: 0 | AM108: 0 | AN108: 0 | AO108: 999 | AP108: 1 | AQ108: 0 | AR108: 0 | AS108: 0 | AT108: 999 | AU108: 1 | AV108: 0 | AW108: 0 | AX108: 0 | AY108: 999 | AZ108: 1 | BA108: 0 | BB108: 0 | BC108: 0 | BD108: 999 | BE108: 1 | BF108: 0 | BG108: 0 | BH108: 0 | BI108: 999 | BJ108: 1 | BK108: 0 | BL108: 0 | BM108: 0 | BN108: 999 | BO108: 1 | BP108: 0 | BQ108: 0 | BR108: 999 | BS108: 0 | BT108: 0 | BU108: 0 | BV108: 0 | BW108: 0 | BX108: 0 | BY108: 0 | BZ108: 0 | CA108: 0 | CB108: 2 | CC108: 1.5 | CD108: 0
C109: 999 | S109: 0 | T109: 0 | U109: 0 | V109: 0 | W109: 0 | X109: 0 | Y109: 0 | AA109: 0 | AB109: 0 | AC109: 0 | AD109: 0 | AE109: 0 | AF109: 0 | AG109: 0 | AI109: 0 | AK109: 0 | AL109: 0 | AM109: 0 | AN109: 0 | AO109: 999 | AP109: 1 | AQ109: 0 | AR109: 0 | AS109: 0 | AT109: 999 | AU109: 1 | AV109: 0 | AW109: 0 | AX109: 0 | AY109: 999 | AZ109: 1 | BA109: 0 | BB109: 0 | BC109: 0 | BD109: 999 | BE109: 1 | BF109: 0 | BG109: 0 | BH109: 0 | BI109: 999 | BJ109: 1 | BK109: 0 | BL109: 0 | BM109: 0 | BN109: 999 | BO109: 1 | BP109: 0 | BQ109: 0 | BR109: 999 | BS109: 0 | BT109: 0 | BU109: 0 | BV109: 0 | BW109: 0 | BX109: 0 | BY109: 0 | BZ109: 0 | CA109: 0 | CB109: 3 | CC109: 2 | CD109: 0
C110: 0 | S110: 0 | T110: 0 | U110: 0 | V110: 0 | W110: 0 | X110: 0 | Y110: 0 | AA110: 0 | AB110: 0 | AC110: 0 | AD110: 0 | AE110: 0 | AF110: 0 | AG110: 0 | AI110: 0 | AK110: 0 | AL110: 0 | AM110: 0 | AN110: 0 | AO110: 999 | AP110: 1 | AQ110: 0 | AR110: 0 | AS110: 0 | AT110: 999 | AU110: 1 | AV110: 0 | AW110: 0 | AX110: 0 | AY110: 999 | AZ110: 1 | BA110: 0 | BB110: 0 | BC110: 0 | BD110: 999 | BE110: 1 | BF110: 0 | BG110: 0 | BH110: 0 | BI110: 999 | BJ110: 1 | BK110: 0 | BL110: 0 | BM110: 0 | BN110: 999 | BO110: 1 | BP110: 0 | BQ110: 0 | BR110: 999 | BS110: 0 | BT110: 0 | BU110: 0 | BV110: 0 | BW110: 0 | BX110: 0 | BY110: 0 | BZ110: 0 | CA110: 0 | CB110: 4 | CC110: 2.5 | CD110: 0
C111: 0 | S111: 0 | T111: 0 | U111: 0 | V111: 0 | W111: 0 | X111: 0 | Y111: 0 | AA111: 0 | AB111: 0 | AC111: 0 | AD111: 0 | AE111: 0 | AF111: 0 | AG111: 0 | AI111: 0 | AK111: 0 | AL111: 0 | AM111: 0 | AN111: 0 | AO111: 999 | AP111: 1 | AQ111: 0 | AR111: 0 | AS111: 0 | AT111: 999 | AU111: 1 | AV111: 0 | AW111: 0 | AX111: 0 | AY111: 999 | AZ111: 1 | BA111: 0 | BB111: 0 | BC111: 0 | BD111: 999 | BE111: 1 | BF111: 0 | BG111: 0 | BH111: 0 | BI111: 999 | BJ111: 1 | BK111: 0 | BL111: 0 | BM111: 0 | BN111: 999 | BO111: 1 | BP111: 0 | BQ111: 0 | BR111: 999 | BS111: 0 | BT111: 0 | BU111: 0 | BV111: 0 | BW111: 0 | BX111: 0 | BY111: 0 | BZ111: 0 | CA111: 0 | CB111: 5 | CC111: 3 | CD111: 0
C112: 0 | S112: 0 | T112: 0 | U112: 0 | V112: 0 | W112: 0 | X112: 0 | Y112: 0 | AA112: 0 | AB112: 0 | AC112: 0 | AD112: 0 | AE112: 0 | AF112: 0 | AG112: 0 | AI112: 0 | AK112: 0 | AL112: 0 | AM112: 0 | AN112: 0 | AO112: 999 | AP112: 1 | AQ112: 0 | AR112: 0 | AS112: 0 | AT112: 999 | AU112: 1 | AV112: 0 | AW112: 0 | AX112: 0 | AY112: 999 | AZ112: 1 | BA112: 0 | BB112: 0 | BC112: 0 | BD112: 999 | BE112: 1 | BF112: 0 | BG112: 0 | BH112: 0 | BI112: 999 | BJ112: 1 | BK112: 0 | BL112: 0 | BM112: 0 | BN112: 999 | BO112: 1 | BP112: 0 | BQ112: 0 | BR112: 999 | BS112: 0 | BT112: 0 | BU112: 0 | BV112: 0 | BW112: 0 | BX112: 0 | BY112: 0 | BZ112: 0 | CA112: 0 | CB112: 6 | CC112: 3.5 | CD112: 0
C113: 0 | S113: 0 | T113: 0 | U113: 0 | V113: 0 | W113: 0 | X113: 0 | Y113: 0 | AA113: 0 | AB113: 0 | AC113: 0 | AD113: 0 | AE113: 0 | AF113: 0 | AG113: 0 | AI113: 0 | AK113: 0 | AL113: 0 | AM113: 0 | AN113: 0 | AO113: 999 | AP113: 1 | AQ113: 0 | AR113: 0 | AS113: 0 | AT113: 999 | AU113: 1 | AV113: 0 | AW113: 0 | AX113: 0 | AY113: 999 | AZ113: 1 | BA113: 0 | BB113: 0 | BC113: 0 | BD113: 999 | BE113: 1 | BF113: 0 | BG113: 0 | BH113: 0 | BI113: 999 | BJ113: 1 | BK113: 0 | BL113: 0 | BM113: 0 | BN113: 999 | BO113: 1 | BP113: 0 | BQ113: 0 | BR113: 999 | BS113: 0 | BT113: 0 | BU113: 0 | BV113: 0 | BW113: 0 | BX113: 0 | BY113: 0 | BZ113: 0 | CA113: 0 | CB113: 7 | CC113: 4 | CD113: 0
C114: 0 | S114: 0 | T114: 0 | U114: 0 | V114: 0 | W114: 0 | X114: 0 | Y114: 0 | AA114: 0 | AB114: 0 | AC114: 0 | AD114: 0 | AE114: 0 | AF114: 0 | AG114: 0 | AI114: 0 | AK114: 0 | AL114: 0 | AM114: 0 | AN114: 0 | AO114: 999 | AP114: 1 | AQ114: 0 | AR114: 0 | AS114: 0 | AT114: 999 | AU114: 1 | AV114: 0 | AW114: 0 | AX114: 0 | AY114: 999 | AZ114: 1 | BA114: 0 | BB114: 0 | BC114: 0 | BD114: 999 | BE114: 1 | BF114: 0 | BG114: 0 | BH114: 0 | BI114: 999 | BJ114: 1 | BK114: 0 | BL114: 0 | BM114: 0 | BN114: 999 | BO114: 1 | BP114: 0 | BQ114: 0 | BR114: 999 | BS114: 0 | BT114: 0 | BU114: 0 | BV114: 0 | BW114: 0 | BX114: 0 | BY114: 0 | BZ114: 0 | CA114: 0 | CB114: 8 | CC114: 4.5 | CD114: 0
C115: 0 | S115: 0 | T115: 0 | U115: 0 | V115: 0 | W115: 0 | X115: 0 | Y115: 0 | AA115: 0 | AB115: 0 | AC115: 0 | AD115: 0 | AE115: 0 | AF115: 0 | AG115: 0 | AI115: 0 | AK115: 0 | AL115: 0 | AM115: 0 | AN115: 0 | AO115: 999 | AP115: 1 | AQ115: 0 | AR115: 0 | AS115: 0 | AT115: 999 | AU115: 1 | AV115: 0 | AW115: 0 | AX115: 0 | AY115: 999 | AZ115: 1 | BA115: 0 | BB115: 0 | BC115: 0 | BD115: 999 | BE115: 1 | BF115: 0 | BG115: 0 | BH115: 0 | BI115: 999 | BJ115: 1 | BK115: 0 | BL115: 0 | BM115: 0 | BN115: 999 | BO115: 1 | BP115: 0 | BQ115: 0 | BR115: 999 | BS115: 0 | BT115: 0 | BU115: 0 | BV115: 0 | BW115: 0 | BX115: 0 | BY115: 0 | BZ115: 0 | CA115: 0 | CB115: КД | CC115: 0 | CD115: 0
C118: 0 | D118: ! | E118: ! | F118: ! | G118: 0 | H118: 0 | I118: 0 | J118: 0 | K118: 0 | L118: 0 | M118: 0 | N118: 0 | O118: 0 | P118: 0 | Q118: 0 | R118: 0 | Z118: 0
Z119: 0
...

Sheet инфа
A1: Сводка 3 | B1: C:\Users\user\Desktop\Кубок Монарх - 2024\ | C1: программа: 2 | T1: Первых пунктов: | AC1: 3 | AE1: ГС | AF1: ЗГС | AG1: СКРТ | AH1: Судьи | DX1: 4
B2: 3 | C2: ПР 3 | T2: 6 | AB2: Количество копий | AC2: Печать вклеек | AD2: Тип бланка | AE2: Михальков Игорь | AF2: Мартынов Денис | AG2: Василевский Илья | AH2: Абаев Дмитрий | AI2: Аверьянов Алексей | AJ2: Акопян Екатерина | AK2: Богачев Андрей | AL2: Богославская Кристина | AM2: Карчев Сергей | AN2: Кислова Анна | AO2: Коротченко Владислав | AP2: Лугин Дмитрий | AQ2: Медянов Кирилл | AR2: Меликян София | AS2: Меркулов Александр | AT2: Муретов Александр | AU2: Немченко Ангелина | AV2: Ощепкова Алина | AW2: Перминов Константин | AX2: Потапцев Артур | AY2: Сидякина Юлия | AZ2: Соколова Юлия | BA2: Трухачев Владислав | BB2: Фадеев Роман | BC2: Фальк Ольга | BD2: Хайрутдинова Анастасия | BE2: Чернышев Василий | BF2: Швец Сергей | BG2: Яковлев Егор | CF2: Всего в категории | CG2: Танец 1 | CH2: Танец 2 | CI2: Танец 3 | CJ2: Танец 4 | CK2: Танец 5 | CL2: Танец 6 | CM2: Танец 7 | CN2: Танец 8 | CO2: Танец 9 | CP2: Танец 10 | CQ2: Ранг мин | CR2: Ранг макс | CS2: Возраст Мин | CT2: Возраст Макс | CU2: Класс Мин | CV2: Класс Макс | CW2: Название | CX2: Статус | CY2: Дата | CZ2: Место | DA2: Организатор | DB2: 1/16 | DC2: 1/8 | DD2: 1/4 | DE2: 1/2 | DF2: финал | DG2: В 1/8 | DH2: В 1/4 | DI2: В 1/2 | DJ2: В финал | DK2: Заходы 1/16 | DL2: Заходы 1/8 | DM2: Заходы 1/4 | DN2: Заходы 1/2 | DO2: Заходы финала | DP2: Заходы На оценку | DQ2: 1/16 | DR2: 1/8 | DS2: 1/4 | DT2: 1/2 | DU2: Final | DV2: Пункт 1 тура | DW2: Раундов | DX2: Одиночки
A3: категория | B3: информация | D3: Ф | E3: 1/2 | H3: 1/4 | K3: 1/8 | N3: 1/16 | Q3: 1/32 | T3: кол-во участников | U3: ЗП | V3: РП | W3: КТ | X3: КП | Y3: программа | Z3: кол-во танцев | AA3: танцы | AE3: Президиум РТС, МТА РТС | AF3: СПТС РТС | AG3: МТА РТС | AH3: МТА РТС | AI3: МТА РТС | AJ3: МФСТ РТС | AK3: ТТА РТС | AL3: МОО ФСТ РТС | AM3: МТА РТС | AN3: РО РТС Московской области | AO3: РО РТС города Москвы | AP3: Новая Танцевальная Лига РТС | AQ3: РО РТС города Москвы | AR3: ОФСТ РТС | AS3: МТА РТС | AT3: МТА РТС | AU3: МТА РТС | AV3: Азербайджан | AW3: РО РТС Табмовской области | AX3: Новая Танцевальная Лига РТС | AY3: РО РТС Брянской области | AZ3: РО РТС Тульской области | BA3: МТА РТС | BB3: МТА РТС | BC3: МТА РТС | BD3: МТС РТС | BE3: Новая Танцевальная Лига РТС | BF3: ОФСТ РТС | BG3: РО РТС города Москвы
B4: туры | C4: пары (заходы) | D4: КП | E4: КП | F4: СТ | G4: КЗ | H4: КП | I4: СТ | J4: КЗ | K4: КП | L4: СТ | M4: КЗ | N4: КП | O4: СТ | P4: КЗ | Q4: КП | R4: СТ | S4: КЗ | AE4: Международная | AF4: Всероссийская | AG4: Первая | AH4: Первая | AI4: Международная | AJ4: Всероссийская | AK4: Первая | AL4: Всероссийская | AM4: Первая | AN4: Первая | AO4: Вторая | AP4: Первая | AQ4: Всероссийская | AR4: Третья | AS4: Третья | AT4: Третья | AU4: Вторая | AV4: WDC | AW4: Третья | AX4: Первая | AY4: Всероссийская | AZ4: Всероссийская | BA4: Первая | BB4: Всероссийская | BC4: Первая | BD4: Вторая | BE4: Первая | BF4: Первая | BG4: Вторая
A5: SRDC Ювеналы Соло Am. Sm. | B5: Ф | C5: 1(1) | D5: 1 | E5: 0 | F5: 0 | G5: 0 | H5: 0 | I5: 0 | J5: 0 | K5: 0 | L5: 0 | M5: 0 | N5: 0 | O5: 0 | P5: 0 | Q5: #REF! | R5: 0 | S5: #REF! | T5: 1 | U5: 16 | W5: 1 | X5: 1 | Y5: Am. Sm. | Z5: 4 | AA5: W T F V | AB5: 1 | AC5: 0 | AD5: 2 | AE5: Михальков Игорь | AF5: Мартынов Денис | AG5: Василевский Илья | AH5: Богославская Кристина | AI5: Ощепкова Алина | AJ5: Фадеев Роман | CF5: 3 | CG5: 1 | CH5: 2 | CI5: 4 | CJ5: 3 | CS5: 1 | CT5: 11 | CW5: Кубок Монарх - 2024 | CX5: SRDC American Smooth | CY5: 25.05.2024 | CZ5: Арена Мытищи | DA5: Орг. комитет МТА, Василевский Илья | DB5: 0 | DC5: 0 | DD5: 0 | DE5: 0 | DF5: 1 | DG5: 0 | DH5: 0 | DI5: 0 | DJ5: 0 | DK5: 0 | DL5: 0 | DM5: 0 | DN5: 0 | DO5: 1 | DP5: 1 | DQ5: 0 | DR5: 0 | DS5: 0 | DT5: 0 | DU5: 11 | DV5: 11 | DW5: 1 | DX5: 2

Sheet Протокол
A1: ИТОГОВЫЙ ПРОТОКОЛ
A2: SRDC American Smooth
A3: Кубок Монарх - 2024
A4: 25.05.2024
A5: Классификационные соревнования
C6: Группа | F6: Программа | J6: Количество пар | K6: Коэф.
C7: SRDC Ювеналы Соло | F7: Am. Sm. | J7: 1
D8: Главный судья | F8: Михальков Игорь | G8: Президиум РТС, МТА РТС | H8: Международная
D9: Зам. Главного судьи | F9: Мартынов Денис | G9: СПТС РТС | H9: Всероссийская
D10: Главный секретарь | F10: Василевский Илья | G10: МТА РТС | H10: Первая
D11: Ответств. Лицо | F11: Орг. комитет МТА, Василевский Илья
D12: Комиссар
D13: Председатель СК | F13: Сучков Владимир
D14: Арбитры: | K14: Арбитры:
A15: 1 | B15: Богославская Кристина | F15: МТА РТС | G15: Первая | I15: 2 | J15: Ощепкова Алина | M15: МТА РТС | N15: Международная
A16: 3 | B16: Фадеев Роман | F16: МФСТ РТС | G16: Всероссийская
A24: Место | D24: № | E24: Участник | F24: Дата | G24: К | H24: Разр. | I24: IDD | J24: Коллектив | K24: Тренеры - | M24: Очки | N24: Региональная Организация РТС
D25: пар | F25: Рожд. | J25: Город | K25: Преподаватели
A26: 1 | E26: #N/A | F26: #N/A | G26: #N/A | I26: #N/A | J26: #N/A | K26: #N/A | L26: Абсолют | M26: 0
E27: #N/A | F27: #N/A | G27: #N/A | I27: #N/A | J27: #N/A | K27: #N/A | L27: #N/A

Sheet RDU
A1: категория_заголовок | B1: SRDC Ювеналы Соло
A3: категория_дата | B3: 25.05.2024
A4: категория_статус-ранг | B4: SRDC American Smooth
A5: категория_вид | B5: Am. Sm.
A6: категория_форма | B6: КТ
A7: категория_участников | B7: 1
A8: категория_коэффициент
A9: категория_гск-главный | B9: Михальков Игорь | C9: Президиум РТС, МТА РТС | D9: Международная
A10: категория_гск-заместитель | B10: Мартынов Денис | C10: СПТС РТС | D10: Всероссийская
A11: категория_гск-секретарь | B11: Василевский Илья | C11: МТА РТС | D11: Первая
A12: категория_счетчик | B12: Сучков Владимир | C12: Москва
A13: категория_судья | B13: Богославская Кристина | C13: МТА РТС | D13: Первая
A14: категория_судья | B14: Ощепкова Алина | C14: МТА РТС | D14: Международная
A15: категория_судья | B15: Фадеев Роман | C15: МФСТ РТС | D15: Всероссийская
A17: протокол_заголовок | B17: место | C17: номер | D17: Фамилия_Имя_М | E17: ДР_М | F17: Класс_М | G17: IDD_М | H17: Фамилия_Имя_Ж | I17: ДР_Ж | J17: Класс_Ж | K17: IDD_Ж | L17: Клуб | M17: Город_Страна | N17: Тренеры | O17: ОКР | P17: Класс_пары | Q17: Место_класс | R17: ОКР_Класс | S17: РО
A18: протокол_участник | B18: =IFERROR(VLOOKUP(C18,финал!$C$148:$AB$160,15,0),IFERROR(VLOOKUP(C18,#REF!,3,0),IFERROR(VLOOKUP(C18,#REF!,3,0),IFERROR(VLOOKUP(C18,#REF!,3,0),"")))) -> 1 | C18: =IF(Р!A6>0,Р!A6,"") -> 7 | D18: =IF(C18<>"",VLOOKUP(C18,Р!$A:$P,5,0),"") -> Альбекова Аделина | E18: =IF(C18<>"",VLOOKUP(C18,Р!$A:$P,11,0),"") -> 41903 | F18: =IF(C18<>"",VLOOKUP(C18,Р!$A:$P,15,0),"") -> D | G18: =IF(C18<>"",IF(VLOOKUP(C18,Р!$A:$P,13,0)<>0,VLOOKUP(C18,Р!$A:$P,13,0),""),"") | H18: =IF(C18<>"",IF(Р!$F$6>0,VLOOKUP(C18,Р!$A:$P,6,0),""),"") | I18: =IF(C18<>"",IF(Р!$F$6>0,VLOOKUP(C18,Р!$A:$P,12,0),""),"") | J18: =IF(C18<>"",IF(Р!$F$6>0,VLOOKUP(C18,Р!$A:$P,16,0),""),"") | K18: =IF(C18<>"",IF(Р!$F$6>0,IF(VLOOKUP(C18,Р!$A:$P,14,0)<>0,VLOOKUP(C18,Р!$A:$P,14,0),""),""),"") | L18: =IF(C18<>"",IF(IFERROR(MID(VLOOKUP(C18,Р!$A:N,8,FALSE),1,FIND("(",VLOOKUP(C18,Р!$A:N,8,FALSE))-2),VLOOKUP(C18,Р!$A:N,8,FALSE))=0,"",IFERROR(MID(VLOOKUP(C18,Р!$A:N,8,FALSE),1,FIND("(",VLOOKUP(C18,Р!$A:N,8,FALSE))-2),VLOOKUP(C18,Р!$A:N,8,FALSE))),"") | M18: =IF(C18<>"",VLOOKUP(C18,Р!$A:$P,7,0),"") -> Пенза | N18: =IF(C18<>"",IF(VLOOKUP(C18,Р!$A:$P,10,0)=0,"",VLOOKUP(C18,Р!$A:$P,10,0)),"") | O18: =IF(B18<>"",IF($B$6="РТ",($B$8+Р!$G$4-1)*(1-(IFERROR(AVERAGE(LEFT(B18,(FIND("-",B18,1) -1)),MID(B18,FIND("-",B18)+1,256)),B18))/RDU!$B$7),""),"") | P18: =IF($B$6="КТ",IF(D18<>"",IF(VLOOKUP(C18,Р!$A:$C,3,0)=0,"!!!",IF(VLOOKUP(C18,Р!$A:$C,3,0)=1,"N",IF(VLOOKUP(C18,Р!$A:$C,3,0)=2,"E",IF(VLOOKUP(C18,Р!$A:$C,3,0)=3,"D",IF(VLOOKUP(C18,Р!$A:$C,3,0)=4,"C",IF(VLOOKUP(C18,Р!$A:$C,3,0)=5,"B",IF(VLOOKUP(C18,Р!$A:$C,3,0)=6,"A",IF(VLOOKUP(C18,Р!$A:$C,3,0)=7,"S",IF(VLOOKUP(C18,Р!$A:$C,3,0)=8,"I",IF(VLOOKUP(C18,Р!$A:$C,3,0)=9,"P","!!!")))))))))),""),"") -> D | Q18: {=IF($B$6="КТ",IF(B18<>"",COUNTIFS($B$18:$B$18,B18,$P$18:$P$18,P18)/2+SUMPRODUCT((LEFTB(SUBSTITUTE($B$18:$B$18,"-"," "),2)-LEFTB(SUBSTITUTE(B18,"-"," "),2)<0)*($P$18:$P$18=P18))+1/2,""),"")} -> 1 | R18: =IF($B$6="КТ",IF(Q18<>"",(IF(VLOOKUP(C18,Р!$A:$C,3,0)=Р!$D$4,RDU!$B$8,IF(VLOOKUP(C18,Р!$A:$C,3,0)=Р!$C$4,$C$8))+Р!$G$4-1)*(1-(Q18/(IF(P18="N",COUNTIFS($P$18:$P$18,"N")+COUNTIFS($P18:$P$18,"E")+COUNTIFS($P18:$P$18,"D")+COUNTIFS($P18:$P$18,"C")+COUNTIFS($P18:$P$18,"B")+COUNTIFS($P18:$P$18,"A")+COUNTIFS($P18:$P$18,"S"),IF(P18="E",COUNTIFS($P$18:$P$18,"E")+COUNTIFS($P18:$P$18,"D")+COUNTIFS($P18:$P$18,"C")+COUNTIFS($P18:$P$18,"B")+COUNTIFS($P18:$P$18,"A")+COUNTIFS($P18:$P$18,"S"),IF(P18="D",COUNTIFS($P$18:$P$18,"D")+COUNTIFS($P18:$P$18,"C")+COUNTIFS($P18:$P$18,"B")+COUNTIFS($P18:$P$18,"A")+COUNTIFS($P18:$P$18,"S"),IF(P18="C",COUNTIFS($P$18:$P$18,"C")+COUNTIFS($P18:$P$18,"B")+COUNTIFS($P18:$P$18,"A")+COUNTIFS($P18:$P$18,"S"),IF(P18="B",COUNTIFS($P$18:$P$18,"B")+COUNTIFS($P18:$P$18,"A")+COUNTIFS($P18:$P$18,"S"),IF(P18="A",COUNTIFS($P$18:$P$18,"A")+COUNTIFS($P18:$P$18,"S"),COUNTIFS($P$18:$P$18,"S")))))))))),""),"") -> 0 | S18: =IF(IFERROR(MID(VLOOKUP(C18,Р!$A:N,8,FALSE),FIND("(",VLOOKUP(C18,Р!$A:N,8,FALSE))+1,FIND(")",VLOOKUP(C18,Р!$A:N,8,FALSE))-FIND("(",VLOOKUP(C18,Р!$A:N,8,FALSE))-1),"")=0,"",IFERROR(MID(VLOOKUP(C18,Р!$A:N,8,FALSE),FIND("(",VLOOKUP(C18,Р!$A:N,8,FALSE))+1,FIND(")",VLOOKUP(C18,Р!$A:N,8,FALSE))-FIND("(",VLOOKUP(C18,Р!$A:N,8,FALSE))-1),""))
A19: протокол_конец
A21: тур_заголовок | B21: =$B$1 -> SRDC Ювеналы Соло | C21: финал
A22: тур_способ | B22: оф
A23: тур_судьи | B23: =IF($B$13<>"","A. "&$B$13,"") -> A. Богославская Кристина | C23: =IF($B$14<>"","B. "&$B$14,"") -> B. Ощепкова Алина | D23: =IF($B$15<>"","C. "&$B$15,"") -> C. Фадеев Роман | E23: =IF(#REF!<>"","D. "&#REF!,"") -> #REF! | F23: =IF(#REF!<>"","E. "&#REF!,"") -> #REF! | G23: =IF(#REF!<>"","F. "&#REF!,"") -> #REF! | H23: =IF(#REF!<>"","G. "&#REF!,"") -> #REF! | I23: =IF(#REF!<>"","H. "&#REF!,"") -> #REF! | J23: =IF(#REF!<>"","I. "&#REF!,"") -> #REF! | K23: =IF(#REF!<>"","G. "&#REF!,"") -> #REF! | L23: =IF(#REF!<>"","K. "&#REF!,"") -> #REF! | M23: =IF(#REF!<>"","L. "&#REF!,"") -> #REF! | N23: =IF(#REF!<>"","M. "&#REF!,"") -> #REF! | O23: =IF(#REF!<>"","N. "&#REF!,"") -> #REF! | P23: =IF(#REF!<>"","O. "&#REF!,"") -> #REF!
A24: тур_шапка | B24: Тур_Место | C24: Тур_Сумма | D24: Тур_# | E24: W_# | F24: W | G24: W_Сумма | H24: W_Место | I24: T_# | J24: T | K24: T_Сумма | L24: T_Место | M24: V_# | N24: V | O24: V_Сумма | P24: V_Место | Q24: F_# | R24: F | S24: F_Сумма | T24: F_Место | U24: Q_# | V24: Q | W24: Q_Сумма | X24: Q_Место | Y24: C_# | Z24: C | AA24: C_Сумма | AB24: C_Место | AC24: S_# | AD24: S | AE24: S_Сумма | AF24: S_Место | AG24: R_# | AH24: R | AI24: R_Сумма | AJ24: R_Место | AK24: P_# | AL24: P | AM24: P_Сумма | AN24: P_Место | AO24: J_# | AP24: J | AQ24: J_Сумма | AR24: J_Место
A25: тур_оценки | B25: 1 | D25: 7 | E25: 7 | F25: 111 | H25: 1 | I25: 7 | J25: 111 | L25: 1 | M25: 7 | N25: 111 | P25: 1 | Q25: 7 | R25: 111 | T25: 1
A26: тур_конец
A28: категория_конец
