Workbook

Sheet Р
C1: РЕГИСТРАЦИЯ | F1: Кубок Монарх - 2024 (25.05.2024) | J1: C:\Users\user\Desktop\Кубок Монарх - 2024\3\
I2: ПР 3.xlsm | J2: ПР 3
C3: SRDC Ювеналы Соло Am. Sm.
C4: 0 | D4: 0 | F4: 0 | G4: 1
A5: № | B5: ПРОГРАММА | C5: КЛАСС | D5: ВОЗРАСТ | E5: ПАРТНЁР | F5: ПАРТНЁРША | G5: ГОРОД (СТРАНА) | H5: КЛУБ (РЕГИОНАЛЬНАЯ ОРГАНИЗАЦИЯ) | I5: РУКОВОДИТЕЛЬ | J5: ТРЕНЕРЫ | K5: Д.Р. ПАРТНЁРА | L5: Д.Р. ПАРТНЁРШИ | M5: IDD ПАРТНЕРА | N5: IDD ПАРТНЕРШИ | O5: КЛАСС ПАРТНЕРА ПО ЕКТ | P5: КЛАСС ПАРТНЕРШИ ПО ЕКТ
A6: 7 | B6: Ст | C6: 3 | D6: 9 | E6: Альбекова Аделина | G6: Пенза | K6: 41903 | O6: D

Sheet финал
B1: ФИНАЛЬНАЯ ТАБЛИЦА
C2: название турнира: | E2: Кубок Монарх - 2024 | AI2: 0
C3: статус турнира: | E3: SRDC American Smooth | AK3: 1-2 места | AQ3: 1-3 места | AV3: 1-4 места | BA3: 1-5 места | BF3: 1-6 места | BK3: 1-7 места | BS3: 1-2 | BT3: 1-3 | BU3: 1-4 | BV3: 1-5 | BW3: 1-6 | BX3: 1-7
C4: дата проведения: | E4: 25.05.2024 | AK4: 1-е по 1-м | AL4: 1-е по 1-2м (кол-во) | AM4: 1-е по 1-2м (сумма) | AN4: 1-е по 1-2м (равноК) | AO4: 1-е по 1-2м (равноС) | AP4: 1-е по 1-2м (равноК-С1) | AQ4: 1-е по 1-3м (кол-во) | AR4: 1-е по 1-3м (сумма) | AS4: 1-е по 1-3м (равноК) | AT4: 1-е по 1-3м (равноС) | AU4: 1-е по 1-3м (равноК-С1) | AV4: 1-е по 1-4м (кол-во) | AW4: 1-е по 1-4м (сумма) | AX4: 1-е по 1-4м (равноК) | AY4: 1-е по 1-4м (равноС) | AZ4: 1-е по 1-4м (равноК-С) | BA4: 1-е по 1-5м (кол-во) | BB4: 1-е по 1-5м (сумма) | BC4: 1-е по 1-5м (равноК) | BD4: 1-е по 1-5м (равноС) | BE4: 1-е по 1-5м (равноК-С) | BF4: 1-е по 1-6м (кол-во) | BG4: 1-е по 1-6м (сумма) | BH4: 1-е по 1-6м (равноК) | BI4: 1-е по 1-6м (равноС) | BJ4: 1-е по 1-6м (равноК-С) | BK4: 1-е по 1-7м (кол-во) | BL4: 1-е по 1-7м (сумма) | BM4: 1-е по 1-7м (равноК) | BN4: 1-е по 1-7м (равноС) | BO4: 1-е по 1-7м (равноК-С) | BP4: 1-е по 1-7м (кол-во) 2 | BQ4: 1-е по 1-7м (равноК) 2 | BR4: 1-е по 1-7м (равноС) 2 | BS4: ПРОВЕРКА 1 МЕСТО | BT4: ПРОВЕРКА 1 МЕСТО | BU4: ПРОВЕРКА 1 МЕСТО | BV4: ПРОВЕРКА 1 МЕСТО | BW4: ПРОВЕРКА 1 МЕСТО | BX4: ПРОВЕРКА 1 МЕСТО | BY4: ПРОВЕРКА 1 МЕСТО | BZ4: 1 МЕСТО | CA4: ПРОВЕРКА ДЕЛЕНИЯ | CB4: ТАБЛИЦА ДЕЛЕНИЙ | CC4: РЕЗ-ТАТ ДЕЛЕНИЙ | CD4: МЕСТО
C5: место проведения: | E5: Арена Мытищи
C6: категория: | E6: SRDC Ювеналы Соло Am. Sm.
C7: 2 | Z7: 1
B8: танец | C8: номер | D8: судейская бригада | S8: количество мест | Z8: место | AA8: сумма мест
D9: 1 | E9: 2 | F9: 3 | S9: 1 | T9: 1-2 | U9: 1-3 | V9: 1-4 | W9: 1-5 | X9: 1-6 | Y9: 1-7 | AA9: 1 | AB9: 1-2 | AC9: 1-3 | AD9: 1-4 | AE9: 1-5 | AF9: 1-6 | AG9: 1-7
B10: W | C10: 7 | D10: 1 | E10: 1 | F10: 1 | S10: 0 | T10: 0 | U10: 0 | V10: 0 | W10: 0 | X10: 0 | Y10: 0 | Z10: 1 | AA10: 0 | AB10: 0 | AC10: 0 | AD10: 0 | AE10: 0 | AF10: 0 | AG10: 0 | AH10: 111 | AI10: 0 | AK10: 0 | AL10: 0 | AM10: 0 | AN10: 0 | AO10: 999 | AP10: 1 | AQ10: 0 | AR10: 0 | AS10: 0 | AT10: 999 | AU10: 1 | AV10: 0 | AW10: 0 | AX10: 0 | AY10: 999 | AZ10: 1 | BA10: 0 | BB10: 0 | BC10: 0 | BD10: 999 | BE10: 1 | BF10: 0 | BG10: 0 | BH10: 0 | BI10: 999 | BJ10: 1 | BK10: 0 | BL10: 0 | BM10: 0 | BN10: 999 | BO10: 1 | BP10: 0 | BQ10: 0 | BR10: 999 | BS10: 0 | BT10: 0 | BU10: 0 | BV10: 0 | BW10: 0 | BX10: 0 | BY10: 0 | BZ10: 0 | CA10: 0 | CB10: 2 | CC10: 1.5 | CD10: 0
C11: 999 | S11: 0 | T11: 0 | U11: 0 | V11: 0 | W11: 0 | X11: 0 | Y11: 0 | AA11: 0 | AB11: 0 | AC11: 0 | AD11: 0 | AE11: 0 | AF11: 0 | AG11: 0 | AI11: 0 | AK11: 0 | AL11: 0 | AM11: 0 | AN11: 0 | AO11: 999 | AP11: 1 | AQ11: 0 | AR11: 0 | AS11: 0 | AT11: 999 | AU11: 1 | AV11: 0 | AW11: 0 | AX11: 0 | AY11: 999 | AZ11: 1 | BA11: 0 | BB11: 0 | BC11: 0 | BD11: 999 | BE11: 1 | BF11: 0 | BG11: 0 | BH11: 0 | BI11: 999 | BJ11: 1 | BK11: 0 | BL11: 0 | BM11: 0 | BN11: 999 | BO11: 1 | BP11: 0 | BQ11: 0 | BR11: 999 | BS11: 0 | BT11: 0 | BU11: 0 | BV11: 0 | BW11: 0 | BX11: 0 | BY11: 0 | BZ11: 0 | CA11: 0 | CB11: 3 | CC11: 2 | CD11: 0
S12: 0 | T12: 0 | U12: 0 | V12: 0 | W12: 0 | X12: 0 | Y12: 0 | AA12: 0 | AB12: 0 | AC12: 0 | AD12: 0 | AE12: 0 | AF12: 0 | AG12: 0 | AI12: 0 | AK12: 0 | AL12: 0 | AM12: 0 | AN12: 0 | AO12: 999 | AP12: 1 | AQ12: 0 | AR12: 0 | AS12: 0 | AT12: 999 | AU12: 1 | AV12: 0 | AW12: 0 | AX12: 0 | AY12: 999 | AZ12: 1 | BA12: 0 | BB12: 0 | BC12: 0 | BD12: 999 | BE12: 1 | BF12: 0 | BG12: 0 | BH12: 0 | BI12: 999 | BJ12: 1 | BK12: 0 | BL12: 0 | BM12: 0 | BN12: 999 | BO12: 1 | BP12: 0 | BQ12: 0 | BR12: 999 | BS12: 0 | BT12: 0 | BU12: 0 | BV12: 0 | BW12: 0 | BX12: 0 | BY12: 0 | BZ12: 0 | CA12: 0 | CB12: 4 | CC12: 2.5 | CD12: 0
S13: 0 | T13: 0 | U13: 0 | V13: 0 | W13: 0 | X13: 0 | Y13: 0 | AA13: 0 | AB13: 0 | AC13: 0 | AD13: 0 | AE13: 0 | AF13: 0 | AG13: 0 | AI13: 0 | AK13: 0 | AL13: 0 | AM13: 0 | AN13: 0 | AO13: 999 | AP13: 1 | AQ13: 0 | AR13: 0 | AS13: 0 | AT13: 999 | AU13: 1 | AV13: 0 | AW13: 0 | AX13: 0 | AY13: 999 | AZ13: 1 | BA13: 0 | BB13: 0 | BC13: 0 | BD13: 999 | BE13: 1 | BF13: 0 | BG13: 0 | BH13: 0 | BI13: 999 | BJ13: 1 | BK13: 0 | BL13: 0 | BM13: 0 | BN13: 999 | BO13: 1 | BP13: 0 | BQ13: 0 | BR13: 999 | BS13: 0 | BT13: 0 | BU13: 0 | BV13: 0 | BW13: 0 | BX13: 0 | BY13: 0 | BZ13: 0 | CA13: 0 | CB13: 5 | CC13: 3 | CD13: 0
S14: 0 | T14: 0 | U14: 0 | V14: 0 | W14: 0 | X14: 0 | Y14: 0 | AA14: 0 | AB14: 0 | AC14: 0 | AD14: 0 | AE14: 0 | AF14: 0 | AG14: 0 | AI14: 0 | AK14: 0 | AL14: 0 | AM14: 0 | AN14: 0 | AO14: 999 | AP14: 1 | AQ14: 0 | AR14: 0 | AS14: 0 | AT14: 999 | AU14: 1 | AV14: 0 | AW14: 0 | AX14: 0 | AY14: 999 | AZ14: 1 | BA14: 0 | BB14: 0 | BC14: 0 | BD14: 999 | BE14: 1 | BF14: 0 | BG14: 0 | BH14: 0 | BI14: 999 | BJ14: 1 | BK14: 0 | BL14: 0 | BM14: 0 | BN14: 999 | BO14: 1 | BP14: 0 | BQ14: 0 | BR14: 999 | BS14: 0 | BT14: 0 | BU14: 0 | BV14: 0 | BW14: 0 | BX14: 0 | BY14: 0 | BZ14: 0 | CA14: 0 | CB14: 6 | CC14: 3.5 | CD14: 0
S15: 0 | T15: 0 | U15: 0 | V15: 0 | W15: 0 | X15: 0 | Y15: 0 | AA15: 0 | AB15: 0 | AC15: 0 | AD15: 0 | AE15: 0 | AF15: 0 | AG15: 0 | AI15: 0 | AK15: 0 | AL15: 0 | AM15: 0 | AN15: 0 | AO15: 999 | AP15: 1 | AQ15: 0 | AR15: 0 | AS15: 0 | AT15: 999 | AU15: 1 | AV15: 0 | AW15: 0 | AX15: 0 | AY15: 999 | AZ15: 1 | BA15: 0 | BB15: 0 | BC15: 0 | BD15: 999 | BE15: 1 | BF15: 0 | BG15: 0 | BH15: 0 | BI15: 999 | BJ15: 1 | BK15: 0 | BL15: 0 | BM15: 0 | BN15: 999 | BO15: 1 | BP15: 0 | BQ15: 0 | BR15: 999 | BS15: 0 | BT15: 0 | BU15: 0 | BV15: 0 | BW15: 0 | BX15: 0 | BY15: 0 | BZ15: 0 | CA15: 0 | CB15: 7 | CC15: 4 | CD15: 0
S16: 0 | T16: 0 | U16: 0 | V16: 0 | W16: 0 | X16: 0 | Y16: 0 | AA16: 0 | AB16: 0 | AC16: 0 | AD16: 0 | AE16: 0 | AF16: 0 | AG16: 0 | AI16: 0 | AK16: 0 | AL16: 0 | AM16: 0 | AN16: 0 | AO16: 999 | AP16: 1 | AQ16: 0 | AR16: 0 | AS16: 0 | AT16: 999 | AU16: 1 | AV16: 0 | AW16: 0 | AX16: 0 | AY16: 999 | AZ16: 1 | BA16: 0 | BB16: 0 | BC16: 0 | BD16: 999 | BE16: 1 | BF16: 0 | BG16: 0 | BH16: 0 | BI16: 999 | BJ16: 1 | BK16: 0 | BL16: 0 | BM16: 0 | BN16: 999 | BO16: 1 | BP16: 0 | BQ16: 0 | BR16: 999 | BS16: 0 | BT16: 0 | BU16: 0 | BV16: 0 | BW16: 0 | BX16: 0 | BY16: 0 | BZ16: 0 | CA16: 0 | CB16: 8 | CC16: 4.5 | CD16: 0
S17: 0 | T17: 0 | U17: 0 | V17: 0 | W17: 0 | X17: 0 | Y17: 0 | AA17: 0 | AB17: 0 | AC17: 0 | AD17: 0 | AE17: 0 | AF17: 0 | AG17: 0 | AI17: 0 | AK17: 0 | AL17: 0 | AM17: 0 | AN17: 0 | AO17: 999 | AP17: 1 | AQ17: 0 | AR17: 0 | AS17: 0 | AT17: 999 | AU17: 1 | AV17: 0 | AW17: 0 | AX17: 0 | AY17: 999 | AZ17: 1 | BA17: 0 | BB17: 0 | BC17: 0 | BD17: 999 | BE17: 1 | BF17: 0 | BG17: 0 | BH17: 0 | BI17: 999 | BJ17: 1 | BK17: 0 | BL17: 0 | BM17: 0 | BN17: 999 | BO17: 1 | BP17: 0 | BQ17: 0 | BR17: 999 | BS17: 0 | BT17: 0 | BU17: 0 | BV17: 0 | BW17: 0 | BX17: 0 | BY17: 0 | BZ17: 0 | CA17: 0 | CB17: КД | CC17: 0 | CD17: 0
AK18: к | AL18: к | AM18: к | AN18: р | AO18: р | AQ18: к | AR18: к | AS18: р | AT18: р | AU18: и | AV18: к | AW18: к | AX18: р | AY18: р | AZ18: и | BA18: к | BB18: к | BC18: р | BD18: р | BE18: и | BF18: к | BG18: к | BH18: р | BI18: р | BJ18: и | BK18: к | BL18: к | BM18: р | BN18: р
Z21: 1
B22: танец | C22: номер | D22: судейская бригада | S22: количество мест | Z22: место | AA22: сумма мест | AH22: судейская бригада
D23: 1 | E23: 2 | F23: 3 | G23: 0 | H23: 0 | I23: 0 | J23: 0 | K23: 0 | L23: 0 | M23: 0 | N23: 0 | O23: 0 | P23: 0 | Q23: 0 | R23: 0 | S23: 1 | T23: 1-2 | U23: 1-3 | V23: 1-4 | W23: 1-5 | X23: 1-6 | Y23: 1-7 | AA23: 1 | AB23: 1-2 | AC23: 1-3 | AD23: 1-4 | AE23: 1-5 | AF23: 1-6 | AG23: 1-7 | AH23: 123000000
B24: T | C24: 7 | D24: 1 | E24: 1 | F24: 1 | S24: 0 | T24: 0 | U24: 0 | V24: 0 | W24: 0 | X24: 0 | Y24: 0 | Z24: 1 | AA24: 0 | AB24: 0 | AC24: 0 | AD24: 0 | AE24: 0 | AF24: 0 | AG24: 0 | AH24: 111 | AI24: 0 | AK24: 0 | AL24: 0 | AM24: 0 | AN24: 0 | AO24: 999 | AP24: 1 | AQ24: 0 | AR24: 0 | AS24: 0 | AT24: 999 | AU24: 1 | AV24: 0 | AW24: 0 | AX24: 0 | AY24: 999 | AZ24: 1 | BA24: 0 | BB24: 0 | BC24: 0 | BD24: 999 | BE24: 1 | BF24: 0 | BG24: 0 | BH24: 0 | BI24: 999 | BJ24: 1 | BK24: 0 | BL24: 0 | BM24: 0 | BN24: 999 | BO24: 1 | BP24: 0 | BQ24: 0 | BR24: 999 | BS24: 0 | BT24: 0 | BU24: 0 | BV24: 0 | BW24: 0 | BX24: 0 | BY24: 0 | BZ24: 0 | CA24: 0 | CB24: 2 | CC24: 1.5 | CD24: 0
C25: 999 | S25: 0 | T25: 0 | U25: 0 | V25: 0 | W25: 0 | X25: 0 | Y25: 0 | AA25: 0 | AB25: 0 | AC25: 0 | AD25: 0 | AE25: 0 | AF25: 0 | AG25: 0 | AI25: 0 | AK25: 0 | AL25: 0 | AM25: 0 | AN25: 0 | AO25: 999 | AP25: 1 | AQ25: 0 | AR25: 0 | AS25: 0 | AT25: 999 | AU25: 1 | AV25: 0 | AW25: 0 | AX25: 0 | AY25: 999 | AZ25: 1 | BA25: 0 | BB25: 0 | BC25: 0 | BD25: 999 | BE25: 1 | BF25: 0 | BG25: 0 | BH25: 0 | BI25: 999 | BJ25: 1 | BK25: 0 | BL25: 0 | BM25: 0 | BN25: 999 | BO25: 1 | BP25: 0 | BQ25: 0 | BR25: 999 | BS25: 0 | BT25: 0 | BU25: 0 | BV25: 0 | BW25: 0 | BX25: 0 | BY25: 0 | BZ25: 0 | CA25: 0 | CB25: 3 | CC25: 2 | CD25: 0
C26: 0 | S26: 0 | T26: 0 | U26: 0 | V26: 0 | W26: 0 | X26: 0 | Y26: 0 | AA26: 0 | AB26: 0 | AC26: 0 | AD26: 0 | AE26: 0 | AF26: 0 | AG26: 0 | AI26: 0 | AK26: 0 | AL26: 0 | AM26: 0 | AN26: 0 | AO26: 999 | AP26: 1 | AQ26: 0 | AR26: 0 | AS26: 0 | AT26: 999 | AU26: 1 | AV26: 0 | AW26: 0 | AX26: 0 | AY26: 999 | AZ26: 1 | BA26: 0 | BB26: 0 | BC26: 0 | BD26: 999 | BE26: 1 | BF26: 0 | BG26: 0 | BH26: 0 | BI26: 999 | BJ26: 1 | BK26: 0 | BL26: 0 | BM26: 0 | BN26: 999 | BO26: 1 | BP26: 0 | BQ26: 0 | BR26: 999 | BS26: 0 | BT26: 0 | BU26: 0 | BV26: 0 | BW26: 0 | BX26: 0 | BY26: 0 | BZ26: 0 | CA26: 0 | CB26: 4 | CC26: 2.5 | CD26: 0
C27: 0 | S27: 0 | T27: 0 | U27: 0 | V27: 0 | W27: 0 | X27: 0 | Y27: 0 | AA27: 0 | AB27: 0 | AC27: 0 | AD27: 0 | AE27: 0 | AF27: 0 | AG27: 0 | AI27: 0 | AK27: 0 | AL27: 0 | AM27: 0 | AN27: 0 | AO27: 999 | AP27: 1 | AQ27: 0 | AR27: 0 | AS27: 0 | AT27: 999 | AU27: 1 | AV27: 0 | AW27: 0 | AX27: 0 | AY27: 999 | AZ27: 1 | BA27: 0 | BB27: 0 | BC27: 0 | BD27: 999 | BE27: 1 | BF27: 0 | BG27: 0 | BH27: 0 | BI27: 999 | BJ27: 1 | BK27: 0 | BL27: 0 | BM27: 0 | BN27: 999 | BO27: 1 | BP27: 0 | BQ27: 0 | BR27: 999 | BS27: 0 | BT27: 0 | BU27: 0 | BV27: 0 | BW27: 0 | BX27: 0 | BY27: 0 | BZ27: 0 | CA27: 0 | CB27: 5 | CC27: 3 | CD27: 0
C28: 0 | S28: 0 | T28: 0 | U28: 0 | V28: 0 | W28: 0 | X28: 0 | Y28: 0 | AA28: 0 | AB28: 0 | AC28: 0 | AD28: 0 | AE28: 0 | AF28: 0 | AG28: 0 | AI28: 0 | AK28: 0 | AL28: 0 | AM28: 0 | AN28: 0 | AO28: 999 | AP28: 1 | AQ28: 0 | AR28: 0 | AS28: 0 | AT28: 999 | AU28: 1 | AV28: 0 | AW28: 0 | AX28: 0 | AY28: 999 | AZ28: 1 | BA28: 0 | BB28: 0 | BC28: 0 | BD28: 999 | BE28: 1 | BF28: 0 | BG28: 0 | BH28: 0 | BI28: 999 | BJ28: 1 | BK28: 0 | BL28: 0 | BM28: 0 | BN28: 999 | BO28: 1 | BP28: 0 | BQ28: 0 | BR28: 999 | BS28: 0 | BT28: 0 | BU28: 0 | BV28: 0 | BW28: 0 | BX28: 0 | BY28: 0 | BZ28: 0 | CA28: 0 | CB28: 6 | CC28: 3.5 | CD28: 0
C29: 0 | S29: 0 | T29: 0 | U29: 0 | V29: 0 | W29: 0 | X29: 0 | Y29: 0 | AA29: 0 | AB29: 0 | AC29: 0 | AD29: 0 | AE29: 0 | AF29: 0 | AG29: 0 | AI29: 0 | AK29: 0 | AL29: 0 | AM29: 0 | AN29: 0 | AO29: 999 | AP29: 1 | AQ29: 0 | AR29: 0 | AS29: 0 | AT29: 999 | AU29: 1 | AV29: 0 | AW29: 0 | AX29: 0 | AY29: 999 | AZ29: 1 | BA29: 0 | BB29: 0 | BC29: 0 | BD29: 999 | BE29: 1 | BF29: 0 | BG29: 0 | BH29: 0 | BI29: 999 | BJ29: 1 | BK29: 0 | BL29: 0 | BM29: 0 | BN29: 999 | BO29: 1 | BP29: 0 | BQ29: 0 | BR29: 999 | BS29: 0 | BT29: 0 | BU29: 0 | BV29: 0 | BW29: 0 | BX29: 0 | BY29: 0 | BZ29: 0 | CA29: 0 | CB29: 7 | CC29: 4 | CD29: 0
C30: 0 | S30: 0 | T30: 0 | U30: 0 | V30: 0 | W30: 0 | X30: 0 | Y30: 0 | AA30: 0 | AB30: 0 | AC30: 0 | AD30: 0 | AE30: 0 | AF30: 0 | AG30: 0 | AI30: 0 | AK30: 0 | AL30: 0 | AM30: 0 | AN30: 0 | AO30: 999 | AP30: 1 | AQ30: 0 | AR30: 0 | AS30: 0 | AT30: 999 | AU30: 1 | AV30: 0 | AW30: 0 | AX30: 0 | AY30: 999 | AZ30: 1 | BA30: 0 | BB30: 0 | BC30: 0 | BD30: 999 | BE30: 1 | BF30: 0 | BG30: 0 | BH30: 0 | BI30: 999 | BJ30: 1 | BK30: 0 | BL30: 0 | BM30: 0 | BN30: 999 | BO30: 1 | BP30: 0 | BQ30: 0 | BR30: 999 | BS30: 0 | BT30: 0 | BU30: 0 | BV30: 0 | BW30: 0 | BX30: 0 | BY30: 0 | BZ30: 0 | CA30: 0 | CB30: 8 | CC30: 4.5 | CD30: 0
C31: 0 | S31: 0 | T31: 0 | U31: 0 | V31: 0 | W31: 0 | X31: 0 | Y31: 0 | AA31: 0 | AB31: 0 | AC31: 0 | AD31: 0 | AE31: 0 | AF31: 0 | AG31: 0 | AI31: 0 | AK31: 0 | AL31: 0 | AM31: 0 | AN31: 0 | AO31: 999 | AP31: 1 | AQ31: 0 | AR31: 0 | AS31: 0 | AT31: 999 | AU31: 1 | AV31: 0 | AW31: 0 | AX31: 0 | AY31: 999 | AZ31: 1 | BA31: 0 | BB31: 0 | BC31: 0 | BD31: 999 | BE31: 1 | BF31: 0 | BG31: 0 | BH31: 0 | BI31: 999 | BJ31: 1 | BK31: 0 | BL31: 0 | BM31: 0 | BN31: 999 | BO31: 1 | BP31: 0 | BQ31: 0 | BR31: 999 | BS31: 0 | BT31: 0 | BU31: 0 | BV31: 0 | BW31: 0 | BX31: 0 | BY31: 0 | BZ31: 0 | CA31: 0 | CB31: КД | CC31: 0 | CD31: 0
Z35: 1
B36: танец | C36: номер | D36: судейская бригада | S36: количество мест | Z36: место | AA36: сумма мест | AH36: судейская бригада
D37: 1 | E37: 2 | F37: 3 | G37: 0 | H37: 0 | I37: 0 | J37: 0 | K37: 0 | L37: 0 | M37: 0 | N37: 0 | O37: 0 | P37: 0 | Q37: 0 | R37: 0 | S37: 1 | T37: 1-2 | U37: 1-3 | V37: 1-4 | W37: 1-5 | X37: 1-6 | Y37: 1-7 | AA37: 1 | AB37: 1-2 | AC37: 1-3 | AD37: 1-4 | AE37: 1-5 | AF37: 1-6 | AG37: 1-7 | AH37: 123000000
B38: F | C38: 7 | D38: 1 | E38: 1 | F38: 1 | S38: 0 | T38: 0 | U38: 0 | V38: 0 | W38: 0 | X38: 0 | Y38: 0 | Z38: 1 | AA38: 0 | AB38: 0 | AC38: 0 | AD38: 0 | AE38: 0 | AF38: 0 | AG38: 0 | AH38: 111 | AI38: 0 | AK38: 0 | AL38: 0 | AM38: 0 | AN38: 0 | AO38: 999 | AP38: 1 | AQ38: 0 | AR38: 0 | AS38: 0 | AT38: 999 | AU38: 1 | AV38: 0 | AW38: 0 | AX38: 0 | AY38: 999 | AZ38: 1 | BA38: 0 | BB38: 0 | BC38: 0 | BD38: 999 | BE38: 1 | BF38: 0 | BG38: 0 | BH38: 0 | BI38: 999 | BJ38: 1 | BK38: 0 | BL38: 0 | BM38: 0 | BN38: 999 | BO38: 1 | BP38: 0 | BQ38: 0 | BR38: 999 | BS38: 0 | BT38: 0 | BU38: 0 | BV38: 0 | BW38: 0 | BX38: 0 | BY38: 0 | BZ38: 0 | CA38: 0 | CB38: 2 | CC38: 1.5 | CD38: 0
C39: 999 | S39: 0 | T39: 0 | U39: 0 | V39: 0 | W39: 0 | X39: 0 | Y39: 0 | AA39: 0 | AB39: 0 | AC39: 0 | AD39: 0 | AE39: 0 | AF39: 0 | AG39: 0 | AI39: 0 | AK39: 0 | AL39: 0 | AM39: 0 | AN39: 0 | AO39: 999 | AP39: 1 | AQ39: 0 | AR39: 0 | AS39: 0 | AT39: 999 | AU39: 1 | AV39: 0 | AW39: 0 | AX39: 0 | AY39: 999 | AZ39: 1 | BA39: 0 | BB39: 0 | BC39: 0 | BD39: 999 | BE39: 1 | BF39: 0 | BG39: 0 | BH39: 0 | BI39: 999 | BJ39: 1 | BK39: 0 | BL39: 0 | BM39: 0 | BN39: 999 | BO39: 1 | BP39: 0 | BQ39: 0 | BR39: 999 | BS39: 0 | BT39: 0 | BU39: 0 | BV39: 0 | BW39: 0 | BX39: 0 | BY39: 0 | BZ39: 0 | CA39: 0 | CB39: 3 | CC39: 2 | CD39: 0
C40: 0 | S40: 0 | T40: 0 | U40: 0 | V40: 0 | W40: 0 | X40: 0 | Y40: 0 | AA40: 0 | AB40: 0 | AC40: 0 | AD40: 0 | AE40: 0 | AF40: 0 | AG40: 0 | AI40: 0 | AK40: 0 | AL40: 0 | AM40: 0 | AN40: 0 | AO40: 999 | AP40: 1 | AQ40: 0 | AR40: 0 | AS40: 0 | AT40: 999 | AU40: 1 | AV40: 0 | AW40: 0 | AX40: 0 | AY40: 999 | AZ40: 1 | BA40: 0 | BB40: 0 | BC40: 0 | BD40: 999 | BE40: 1 | BF40: 0 | BG40: 0 | BH40: 0 | BI40: 999 | BJ40: 1 | BK40: 0 | BL40: 0 | BM40: 0 | BN40: 999 | BO40: 1 | BP40: 0 | BQ40: 0 | BR40: 999 | BS40: 0 | BT40: 0 | BU40: 0 | BV40: 0 | BW40: 0 | BX40: 0 | BY40: 0 | BZ40: 0 | CA40: 0 | CB40: 4 | CC40: 2.5 | CD40: 0
C41: 0 | S41: 0 | T41: 0 | U41: 0 | V41: 0 | W41: 0 | X41: 0 | Y41: 0 | AA41: 0 | AB41: 0 | AC41: 0 | AD41: 0 | AE41: 0 | AF41: 0 | AG41: 0 | AI41: 0 | AK41: 0 | AL41: 0 | AM41: 0 | AN41: 0 | AO41: 999 | AP41: 1 | AQ41: 0 | AR41: 0 | AS41: 0 | AT41: 999 | AU41: 1 | AV41: 0 | AW41: 0 | AX41: 0 | AY41: 999 | AZ41: 1 | BA41: 0 | BB41: 0 | BC41: 0 | BD41: 999 | BE41: 1 | BF41: 0 | BG41: 0 | BH41: 0 | BI41: 999 | BJ41: 1 | BK41: 0 | BL41: 0 | BM41: 0 | BN41: 999 | BO41: 1 | BP41: 0 | BQ41: 0 | BR41: 999 | BS41: 0 | BT41: 0 | BU41: 0 | BV41: 0 | BW41: 0 | BX41: 0 | BY41: 0 | BZ41: 0 | CA41: 0 | CB41: 5 | CC41: 3 | CD41: 0
C42: 0 | S42: 0 | T42: 0 | U42: 0 | V42: 0 | W42: 0 | X42: 0 | Y42: 0 | AA42: 0 | AB42: 0 | AC42: 0 | AD42: 0 | AE42: 0 | AF42: 0 | AG42: 0 | AI42: 0 | AK42: 0 | AL42: 0 | AM42: 0 | AN42: 0 | AO42: 999 | AP42: 1 | AQ42: 0 | AR42: 0 | AS42: 0 | AT42: 999 | AU42: 1 | AV42: 0 | AW42: 0 | AX42: 0 | AY42: 999 | AZ42: 1 | BA42: 0 | BB42: 0 | BC42: 0 | BD42: 999 | BE42: 1 | BF42: 0 | BG42: 0 | BH42: 0 | BI42: 999 | BJ42: 1 | BK42: 0 | BL42: 0 | BM42: 0 | BN42: 999 | BO42: 1 | BP42: 0 | BQ42: 0 | BR42: 999 | BS42: 0 | BT42: 0 | BU42: 0 | BV42: 0 | BW42: 0 | BX42: 0 | BY42: 0 | BZ42: 0 | CA42: 0 | CB42: 6 | CC42: 3.5 | CD42: 0
C43: 0 | S43: 0 | T43: 0 | U43: 0 | V43: 0 | W43: 0 | X43: 0 | Y43: 0 | AA43: 0 | AB43: 0 | AC43: 0 | AD43: 0 | AE43: 0 | AF43: 0 | AG43: 0 | AI43: 0 | AK43: 0 | AL43: 0 | AM43: 0 | AN43: 0 | AO43: 999 | AP43: 1 | AQ43: 0 | AR43: 0 | AS43: 0 | AT43: 999 | AU43: 1 | AV43: 0 | AW43: 0 | AX43: 0 | AY43: 999 | AZ43: 1 | BA43: 0 | BB43: 0 | BC43: 0 | BD43: 999 | BE43: 1 | BF43: 0 | BG43: 0 | BH43: 0 | BI43: 999 | BJ43: 1 | BK43: 0 | BL43: 0 | BM43: 0 | BN43: 999 | BO43: 1 | BP43: 0 | BQ43: 0 | BR43: 999 | BS43: 0 | BT43: 0 | BU43: 0 | BV43: 0 | BW43: 0 | BX43: 0 | BY43: 0 | BZ43: 0 | CA43: 0 | CB43: 7 | CC43: 4 | CD43: 0
C44: 0 | S44: 0 | T44: 0 | U44: 0 | V44: 0 | W44: 0 | X44: 0 | Y44: 0 | AA44: 0 | AB44: 0 | AC44: 0 | AD44: 0 | AE44: 0 | AF44: 0 | AG44: 0 | AI44: 0 | AK44: 0 | AL44: 0 | AM44: 0 | AN44: 0 | AO44: 999 | AP44: 1 | AQ44: 0 | AR44: 0 | AS44: 0 | AT44: 999 | AU44: 1 | AV44: 0 | AW44: 0 | AX44: 0 | AY44: 999 | AZ44: 1 | BA44: 0 | BB44: 0 | BC44: 0 | BD44: 999 | BE44: 1 | BF44: 0 | BG44: 0 | BH44: 0 | BI44: 999 | BJ44: 1 | BK44: 0 | BL44: 0 | BM44: 0 | BN44: 999 | BO44: 1 | BP44: 0 | BQ44: 0 | BR44: 999 | BS44: 0 | BT44: 0 | BU44: 0 | BV44: 0 | BW44: 0 | BX44: 0 | BY44: 0 | BZ44: 0 | CA44: 0 | CB44: 8 | CC44: 4.5 | CD44: 0
C45: 0 | S45: 0 | T45: 0 | U45: 0 | V45: 0 | W45: 0 | X45: 0 | Y45: 0 | AA45: 0 | AB45: 0 | AC45: 0 | AD45: 0 | AE45: 0 | AF45: 0 | AG45: 0 | AI45: 0 | AK45: 0 | AL45: 0 | AM45: 0 | AN45: 0 | AO45: 999 | AP45: 1 | AQ45: 0 | AR45: 0 | AS45: 0 | AT45: 999 | AU45: 1 | AV45: 0 | AW45: 0 | AX45: 0 | AY45: 999 | AZ45: 1 | BA45: 0 | BB45: 0 | BC45: 0 | BD45: 999 | BE45: 1 | BF45: 0 | BG45: 0 | BH45: 0 | BI45: 999 | BJ45: 1 | BK45: 0 | BL45: 0 | BM45: 0 | BN45: 999 | BO45: 1 | BP45: 0 | BQ45: 0 | BR45: 999 | BS45: 0 | BT45: 0 | BU45: 0 | BV45: 0 | BW45: 0 | BX45: 0 | BY45: 0 | BZ45: 0 | CA45: 0 | CB45: КД | CC45: 0 | CD45: 0
...

Sheet инфа
A1: Сводка 3 | B1: C:\Users\user\Desktop\Кубок Монарх - 2024\ | C1: программа: 2 | T1: Первых пунктов: | AC1: 3 | AE1: ГС | AF1: ЗГС | AG1: СКРТ | AH1: Судьи | DX1: 4
B2: 3 | C2: ПР 3 | T2: 6 | AB2: Количество копий | AC2: Печать вклеек | AD2: Тип бланка | AE2: Михальков Игорь | AF2: Мартынов Денис | AG2: Василевский Илья | AH2: Абаев Дмитрий | AI2: Аверьянов Алексей | AJ2: Акопян Екатерина | AK2: Богачев Андрей | AL2: Богославская Кристина | AM2: Карчев Сергей | AN2: Кислова Анна | AO2: Коротченко Владислав | AP2: Лугин Дмитрий | AQ2: Медянов Кирилл | AR2: Меликян София | AS2: Меркулов Александр | AT2: Муретов Александр | AU2: Немченко Ангелина | AV2: Ощепкова Алина | AW2: Перминов Константин | AX2: Потапцев Артур | AY2: Сидякина Юлия | AZ2: Соколова Юлия | BA2: Трухачев Владислав | BB2: Фадеев Роман | BC2: Фальк Ольга | BD2: Хайрутдинова Анастасия | BE2: Чернышев Василий | BF2: Швец Сергей | BG2: Яковлев Егор | CF2: Всего в категории | CG2: Танец 1 | CH2: Танец 2 | CI2: Танец 3 | CJ2: Танец 4 | CK2: Танец 5 | CL2: Танец 6 | CM2: Танец 7 | CN2: Танец 8 | CO2: Танец 9 | CP2: Танец 10 | CQ2: Ранг мин | CR2: Ранг макс | CS2: Возраст Мин | CT2: Возраст Макс | CU2: Класс Мин | CV2: Класс Макс | CW2: Название | CX2: Статус | CY2: Дата | CZ2: Место | DA2: Организатор | DB2: 1/16 | DC2: 1/8 | DD2: 1/4 | DE2: 1/2 | DF2: финал | DG2: В 1/8 | DH2: В 1/4 | DI2: В 1/2 | DJ2: В финал | DK2: Заходы 1/16 | DL2: Заходы 1/8 | DM2: Заходы 1/4 | DN2: Заходы 1/2 | DO2: Заходы финала | DP2: Заходы На оценку | DQ2: 1/16 | DR2: 1/8 | DS2: 1/4 | DT2: 1/2 | DU2: Final | DV2: Пункт 1 тура | DW2: Раундов | DX2: Одиночки
A3: категория | B3: информация | D3: Ф | E3: 1/2 | H3: 1/4 | K3: 1/8 | N3: 1/16 | Q3: 1/32 | T3: кол-во участников | U3: ЗП | V3: РП | W3: КТ | X3: КП | Y3: программа | Z3: кол-во танцев | AA3: танцы | AE3: Президиум РТС, МТА РТС | AF3: СПТС РТС | AG3: МТА РТС | AH3: МТА РТС | AI3: МТА РТС | AJ3: МФСТ РТС | AK3: ТТА РТС | AL3: МОО ФСТ РТС | AM3: МТА РТС | AN3: РО РТС Московской области | AO3: РО РТС города Москвы | AP3: Новая Танцевальная Лига РТС | AQ3: РО РТС города Москвы | AR3: ОФСТ РТС | AS3: МТА РТС | AT3: МТА РТС | AU3: МТА РТС | AV3: Азербайджан | AW3: РО РТС Табмовской области | AX3: Новая Танцевальная Лига РТС | AY3: РО РТС Брянской области | AZ3: РО РТС Тульской области | BA3: МТА РТС | BB3: МТА РТС | BC3: МТА РТС | BD3: МТС РТС | BE3: Новая Танцевальная Лига РТС | BF3: ОФСТ РТС | BG3: РО РТС города Москвы
B4: туры | C4: пары (заходы) | D4: КП | E4: КП | F4: СТ | G4: КЗ | H4: КП | I4: СТ | J4: КЗ | K4: КП | L4: СТ | M4: КЗ | N4: КП | O4: СТ | P4: КЗ | Q4: КП | R4: СТ | S4: КЗ | AE4: Международная | AF4: Всероссийская | AG4: Первая | AH4: Первая | AI4: Международная | AJ4: Всероссийская | AK4: Первая | AL4: Всероссийская | AM4: Первая | AN4: Первая | AO4: Вторая | AP4: Первая | AQ4: Всероссийская | AR4: Третья | AS4: Третья | AT4: Третья | AU4: Вторая | AV4: WDC | AW4: Третья | AX4: Первая | AY4: Всероссийская | AZ4: Всероссийская | BA4: Первая | BB4: Всероссийская | BC4: Первая | BD4: Вторая | BE4: Первая | BF4: Первая | BG4: Вторая
A5: SRDC Ювеналы Соло Am. Sm. | B5: Ф | C5: 1(1) | D5: 1 | E5: 0 | F5: 0 | G5: 0 | H5: 0 | I5: 0 | J5: 0 | K5: 0 | L5: 0 | M5: 0 | N5: 0 | O5: 0 | P5: 0 | Q5: #REF! | R5: 0 | S5: #REF! | T5: 1 | U5: 16 | W5: 1 | X5: 1 | Y5: Am. Sm. | Z5: 4 | AA5: W T F V | AB5: 1 | AC5: 0 | AD5: 2 | AE5: Михальков Игорь | AF5: Мартынов Денис | AG5: Василевский Илья | AH5: Богославская Кристина | AI5: Ощепкова Алина | AJ5: Фадеев Роман | CF5: 3 | CG5: 1 | CH5: 2 | CI5: 4 | CJ5: 3 | CS5: 1 | CT5: 11 | CW5: Кубок Монарх - 2024 | CX5: SRDC American Smooth | CY5: 25.05.2024 | CZ5: Арена Мытищи | DA5: Орг. комитет МТА, Василевский Илья | DB5: 0 | DC5: 0 | DD5: 0 | DE5: 0 | DF5: 1 | DG5: 0 | DH5: 0 | DI5: 0 | DJ5: 0 | DK5: 0 | DL5: 0 | DM5: 0 | DN5: 0 | DO5: 1 | DP5: 1 | DQ5: 0 | DR5: 0 | DS5: 0 | DT5: 0 | DU5: 11 | DV5: 11 | DW5: 1 | DX5: 2

Sheet Протокол
A1: ИТОГОВЫЙ ПРОТОКОЛ
A2: SRDC American Smooth
A3: Кубок Монарх - 2024
A4: 25.05.2024
A5: Классификационные соревнования
C6: Группа | F6: Программа | J6: Количество пар | K6: Коэф.
C7: SRDC Ювеналы Соло | F7: Am. Sm. | J7: 1
D8: Главный судья | F8: Михальков Игорь | G8: Президиум РТС, МТА РТС | H8: Международная
D9: Зам. Главного судьи | F9: Мартынов Денис | G9: СПТС РТС | H9: Всероссийская
D10: Главный секретарь | F10: Василевский Илья | G10: МТА РТС | H10: Первая
D11: Ответств. Лицо | F11: Орг. комитет МТА, Василевский Илья
D12: Комиссар
D13: Председатель СК | F13: Сучков Владимир
D14: Арбитры: | K14: Арбитры:
A15: 1 | B15: Богославская Кристина | F15: МТА РТС | G15: Первая | I15: 2 | J15: Ощепкова Алина | M15: МТА РТС | N15: Международная
A16: 3 | B16: Фадеев Роман | F16: МФСТ РТС | G16: Всероссийская
A24: Место | D24: № | E24: Участник | F24: Дата | G24: К | H24: Разр. | I24: IDD | J24: Коллектив | K24: Тренеры - | M24: Очки | N24: Региональная Организация РТС
D25: пар | F25: Рожд. | J25: Город | K25: Преподаватели
A26: 1 | E26: #N/A | F26: #N/A | G26: #N/A | I26: #N/A | J26: #N/A | K26: #N/A | L26: Абсолют | M26: 0
E27: #N/A | F27: #N/A | G27: #N/A | I27: #N/A | J27: #N/A | K27: #N/A | L27: #N/A

Sheet RDU
A1: категория_заголовок | B1: SRDC Ювеналы Соло
A3: категория_дата | B3: 25.05.2024
A4: категория_статус-ранг | B4: SRDC American Smooth
A5: категория_вид | B5: Am. Sm.
A6: категория_форма | B6: КТ
A7: категория_участников | B7: 1
A8: категория_коэффициент
A9: категория_гск-главный | B9: Михальков Игорь | C9: Президиум РТС, МТА РТС | D9: Международная
A10: категория_гск-заместитель | B10: Мартынов Денис | C10: СПТС РТС | D10: Всероссийская
A11: категория_гск-секретарь | B11: Василевский Илья | C11: МТА РТС | D11: Первая
A12: категория_счетчик | B12: Сучков Владимир | C12: Москва
A13: категория_судья | B13: Богославская Кристина | C13: МТА РТС | D13: Первая
A14: категория_судья | B14: Ощепкова Алина | C14: МТА РТС | D14: Международная
A15: категория_судья | B15: Фадеев Роман | C15: МФСТ РТС | D15: Всероссийская
A17: протокол_заголовок | B17: место | C17: номер | D17: Фамилия_Имя_М | E17: ДР_М | F17: Класс_М | G17: IDD_М | H17: Фамилия_Имя_Ж | I17: ДР_Ж | J17: Класс_Ж | K17: IDD_Ж | L17: Клуб | M17: Город_Страна | N17: Тренеры | O17: ОКР | P17: Класс_пары | Q17: Место_класс | R17: ОКР_Класс | S17: РО
A18: протокол_участник | B18: =IFERROR(VLOOKUP(C18,финал!$C$148:$AB$160,15,0),IFERROR(VLOOKUP(C18,#REF!,3,0),IFERROR(VLOOKUP(C18,#REF!,3,0),IFERROR(VLOOKUP(C18,#REF!,3,0),"")))) -> 1 | C18: =IF(Р!A6>0,Р!A6,"") -> 7 | D18: =IF(C18<>"",VLOOKUP(C18,Р!$A:$P,5,0),"") -> Альбекова Аделина | E18: =IF(C18<>"",VLOOKUP(C18,Р!$A:$P,11,0),"") -> 41903 | F18: =IF(C18<>"",VLOOKUP(C18,Р!$A:$P,15,0),"") -> D | G18: =IF(C18<>"",IF(VLOOKUP(C18,Р!$A:$P,13,0)<>0,VLOOKUP(C18,Р!$A:$P,13,0),""),"") | H18: =IF(C18<>"",IF(Р!$F$6>0,VLOOKUP(C18,Р!$A:$P,6,0),""),"") | I18: =IF(C18<>"",IF(Р!$F$6>0,VLOOKUP(C18,Р!$A:$P,12,0),""),"") | J18: =IF(C18<>"",IF(Р!$F$6>0,VLOOKUP(C18,Р!$A:$P,16,0),""),"") | K18: =IF(C18<>"",IF(Р!$F$6>0,IF(VLOOKUP(C18,Р!$A:$P,14,0)<>0,VLOOKUP(C18,Р!$A:$P,14,0),""),""),"") | L18: =IF(C18<>"",IF(IFERROR(MID(VLOOKUP(C18,Р!$A:N,8,FALSE),1,FIND("(",VLOOKUP(C18,Р!$A:N,8,FALSE))-2),VLOOKUP(C18,Р!$A:N,8,FALSE))=0,"",IFERROR(MID(VLOOKUP(C18,Р!$A:N,8,FALSE),1,FIND("(",VLOOKUP(C18,Р!$A:N,8,FALSE))-2),VLOOKUP(C18,Р!$A:N,8,FALSE))),"") | M18: =IF(C18<>"",VLOOKUP(C18,Р!$A:$P,7,0),"") -> Пенза | N18: =IF(C18<>"",IF(VLOOKUP(C18,Р!$A:$P,10,0)=0,"",VLOOKUP(C18,Р!$A:$P,10,0)),"") | O18: =IF(B18<>"",IF($B$6="РТ",($B$8+Р!$G$4-1)*(1-(IFERROR(AVERAGE(LEFT(B18,(FIND("-",B18,1) -1)),MID(B18,FIND("-",B18)+1,256)),B18))/RDU!$B$7),""),"") | P18: =IF($B$6="КТ",IF(D18<>"",IF(VLOOKUP(C18,Р!$A:$C,3,0)=0,"!!!",IF(VLOOKUP(C18,Р!$A:$C,3,0)=1,"N",IF(VLOOKUP(C18,Р!$A:$C,3,0)=2,"E",IF(VLOOKUP(C18,Р!$A:$C,3,0)=3,"D",IF(VLOOKUP(C18,Р!$A:$C,3,0)=4,"C",IF(VLOOKUP(C18,Р!$A:$C,3,0)=5,"B",IF(VLOOKUP(C18,Р!$A:$C,3,0)=6,"A",IF(VLOOKUP(C18,Р!$A:$C,3,0)=7,"S",IF(VLOOKUP(C18,Р!$A:$C,3,0)=8,"I",IF(VLOOKUP(C18,Р!$A:$C,3,0)=9,"P","!!!")))))))))),""),"") -> D | Q18: {=IF($B$6="КТ",IF(B18<>"",COUNTIFS($B$18:$B$18,B18,$P$18:$P$18,P18)/2+SUMPRODUCT((LEFTB(SUBSTITUTE($B$18:$B$18,"-"," "),2)-LEFTB(SUBSTITUTE(B18,"-"," "),2)<0)*($P$18:$P$18=P18))+1/2,""),"")} -> 1 | R18: =IF($B$6="КТ",IF(Q18<>"",(IF(VLOOKUP(C18,Р!$A:$C,3,0)=Р!$D$4,RDU!$B$8,IF(VLOOKUP(C18,Р!$A:$C,3,0)=Р!$C$4,$C$8))+Р!$G$4-1)*(1-(Q18/(IF(P18="N",COUNTIFS($P$18:$P$18,"N")+COUNTIFS($P18:$P$18,"E")+COUNTIFS($P18:$P$18,"D")+COUNTIFS($P18:$P$18,"C")+COUNTIFS($P18:$P$18,"B")+COUNTIFS($P18:$P$18,"A")+COUNTIFS($P18:$P$18,"S"),IF(P18="E",COUNTIFS($P$18:$P$18,"E")+COUNTIFS($P18:$P$18,"D")+COUNTIFS($P18:$P$18,"C")+COUNTIFS($P18:$P$18,"B")+COUNTIFS($P18:$P$18,"A")+COUNTIFS($P18:$P$18,"S"),IF(P18="D",COUNTIFS($P$18:$P$18,"D")+COUNTIFS($P18:$P$18,"C")+COUNTIFS($P18:$P$18,"B")+COUNTIFS($P18:$P$18,"A")+COUNTIFS($P18:$P$18,"S"),IF(P18="C",COUNTIFS($P$18:$P$18,"C")+COUNTIFS($P18:$P$18,"B")+COUNTIFS($P18:$P$18,"A")+COUNTIFS($P18:$P$18,"S"),IF(P18="B",COUNTIFS($P$18:$P$18,"B")+COUNTIFS($P18:$P$18,"A")+COUNTIFS($P18:$P$18,"S"),IF(P18="A",COUNTIFS($P$18:$P$18,"A")+COUNTIFS($P18:$P$18,"S"),COUNTIFS($P$18:$P$18,"S")))))))))),""),"") -> 0 | S18: =IF(IFERROR(MID(VLOOKUP(C18,Р!$A:N,8,FALSE),FIND("(",VLOOKUP(C18,Р!$A:N,8,FALSE))+1,FIND(")",VLOOKUP(C18,Р!$A:N,8,FALSE))-FIND("(",VLOOKUP(C18,Р!$A:N,8,FALSE))-1),"")=0,"",IFERROR(MID(VLOOKUP(C18,Р!$A:N,8,FALSE),FIND("(",VLOOKUP(C18,Р!$A:N,8,FALSE))+1,FIND(")",VLOOKUP(C18,Р!$A:N,8,FALSE))-FIND("(",VLOOKUP(C18,Р!$A:N,8,FALSE))-1),""))
A19: протокол_конец
A21: тур_заголовок | B21: =$B$1 -> SRDC Ювеналы Соло | C21: финал
A22: тур_способ | B22: оф
A23: тур_судьи | B23: =IF($B$13<>"","A. "&$B$13,"") -> A. Богославская Кристина | C23: =IF($B$14<>"","B. "&$B$14,"") -> B. Ощепкова Алина | D23: =IF($B$15<>"","C. "&$B$15,"") -> C. Фадеев Роман | E23: =IF(#REF!<>"","D. "&#REF!,"") -> #REF! | F23: =IF(#REF!<>"","E. "&#REF!,"") -> #REF! | G23: =IF(#REF!<>"","F. "&#REF!,"") -> #REF! | H23: =IF(#REF!<>"","G. "&#REF!,"") -> #REF! | I23: =IF(#REF!<>"","H. "&#REF!,"") -> #REF! | J23: =IF(#REF!<>"","I. "&#REF!,"") -> #REF! | K23: =IF(#REF!<>"","G. "&#REF!,"") -> #REF! | L23: =IF(#REF!<>"","K. "&#REF!,"") -> #REF! | M23: =IF(#REF!<>"","L. "&#REF!,"") -> #REF! | N23: =IF(#REF!<>"","M. "&#REF!,"") -> #REF! | O23: =IF(#REF!<>"","N. "&#REF!,"") -> #REF! | P23: =IF(#REF!<>"","O. "&#REF!,"") -> #REF!
A24: тур_шапка | B24: Тур_Место | C24: Тур_Сумма | D24: Тур_# | E24: W_# | F24: W | G24: W_Сумма | H24: W_Место | I24: T_# | J24: T | K24: T_Сумма | L24: T_Место | M24: V_# | N24: V | O24: V_Сумма | P24: V_Место | Q24: F_# | R24: F | S24: F_Сумма | T24: F_Место | U24: Q_# | V24: Q | W24: Q_Сумма | X24: Q_Место | Y24: C_# | Z24: C | AA24: C_Сумма | AB24: C_Место | AC24: S_# | AD24: S | AE24: S_Сумма | AF24: S_Место | AG24: R_# | AH24: R | AI24: R_Сумма | AJ24: R_Место | AK24: P_# | AL24: P | AM24: P_Сумма | AN24: P_Место | AO24: J_# | AP24: J | AQ24: J_Сумма | AR24: J_Место
A25: тур_оценки | B25: 1 | D25: 7 | E25: 7 | F25: 111 | H25: 1 | I25: 7 | J25: 111 | L25: 1 | M25: 7 | N25: 111 | P25: 1 | Q25: 7 | R25: 111 | T25: 1
A26: тур_конец
A28: категория_конец
